BEGIN:VCALENDAR
PRODID:NingEventWidget-v1
VERSION:2.0
METHOD:PUBLISH
BEGIN:VTIMEZONE
TZID:Europe/Paris
X-LIC-LOCATION:Europe/Paris
BEGIN:DAYLIGHT
TZOFFSETFROM:+0100
TZOFFSETTO:+0200
TZNAME:CEST
DTSTART:19700329T020000
RRULE:FREQ=YEARLY;BYMONTH=3;BYDAY=-1SU
END:DAYLIGHT
BEGIN:STANDARD
TZOFFSETFROM:+0200
TZOFFSETTO:+0100
TZNAME:CET
DTSTART:19701025T030000
RRULE:FREQ=YEARLY;BYMONTH=10;BYDAY=-1SU
END:STANDARD
END:VTIMEZONE
BEGIN:VEVENT
UID:2485226:Event:2188832
DTSTAMP:20260422T051403Z
SUMMARY:Cycle ateliers Feng Shui
DESCRIPTION:Mieux chez soi,donc bien mieux en soi…et vice versa ! Cy
 cle de 4 ateliers Feng ShuiLes jeudis 22 janvier – 5 et 19 février 
 et 5 mars(de 14h30 à 16 h30)sur inscription\n \nLors de ce cycle d'a
 teliers pratiques nous aborderons les principes du Feng Shui que vous 
 pourrez appliquer à votre habitat afin de retrouver ou renforcer l'ha
 rmonie et l'équilibre, propices au bien être et à la prospérité d
 ans tous les domaines de votre vie. \n\n\nTarif : 68 € pour le cycle
  entier ou 20 € par séance \n\n\n\n\n\nPour plus d'information, all
 er sur https://epanews.fr/events/cycle-ateliers-feng-shui
DTSTART;TZID=Europe/Paris:20150122T143000
DTEND;TZID=Europe/Paris:20150122T163000
CATEGORIES:56
LOCATION:Espace Cristal
WEBSITE:
URL:
CONTACT:0664321600
ORGANIZER;CN=sylvie:https://epanews.fr/profile/sylvie714
ATTACH;FMTTYPE="image/jpeg":http://storage.ning.com/topology/rest/1.0/
 file/get/1663306378?profile=original
ATTENDEE;ROLE=REQ-PARTICIPANT;PARTSTAT=ACCEPTED;RSVP=TRUE;CN=sylvie:ht
 tps://epanews.fr/profile/sylvie714
END:VEVENT
END:VCALENDAR
