BEGIN:VCALENDAR
PRODID:NingEventWidget-v1
VERSION:2.0
METHOD:PUBLISH
BEGIN:VTIMEZONE
TZID:Europe/Paris
X-LIC-LOCATION:Europe/Paris
BEGIN:DAYLIGHT
TZOFFSETFROM:+0100
TZOFFSETTO:+0200
TZNAME:CEST
DTSTART:19700329T020000
RRULE:FREQ=YEARLY;BYMONTH=3;BYDAY=-1SU
END:DAYLIGHT
BEGIN:STANDARD
TZOFFSETFROM:+0200
TZOFFSETTO:+0100
TZNAME:CET
DTSTART:19701025T030000
RRULE:FREQ=YEARLY;BYMONTH=10;BYDAY=-1SU
END:STANDARD
END:VTIMEZONE
BEGIN:VEVENT
UID:2485226:Event:2742154
DTSTAMP:20260421T172854Z
SUMMARY:Cycle apaisement du mal-Ãªtre par la pleine conscience - janvi
 er2017
DESCRIPTION:Cycle Apaisement du mal-Ãªtre par la Meditation Pleine Con
 science\nLes mercredi 4 - 11 - 18 - 25 JANVIER de 19h - 21h30\nComment
  dÃ©velopper une maniÃ¨re diffÃ©rente dâ€™Ãªtre en prÃ©sence des PENSE
 ES, RUMINATIONS, EMOTIONS NEGATIVES.\nComment adopter une attitude dâ€
 ™accueil et dâ€™acceptation de ces manifestations sans vouloir Ã  tout
  prix sâ€™en dÃ©barrasser ou les fuir, ce qui les renforcerait.Â \nAu 
 fur et Ã  mesure de la pratique, une tolÃ©rance de ces phÃ©nomÃ¨nes sâ
 €™instaure jusquâ€™Ã  ce quâ€™ils sâ€™attÃ©nuent et puis disparaissent
 .\nLa Pleine Conscience induit un changement dâ€™Ã©tat dâ€™espritÂ  et
  de maniÃ¨re dâ€™Ãªtre en relation avec soi et avec tout ce qui surgit
  intÃ©rieurement, sans jugement, sans commentaire, en toute bienveilla
 nce avec soi.\nA partir des bases du programme M.B.S.R* lâ€™axe de la 
 pratique de mÃ©ditation sera celle de privilÃ©gier le constat du mal-Ã
 ªtre chronique par les pensÃ©es ruminantes, les Ã©tats mentaux et Ã©mo
 tionnels nÃ©gatifs et dâ€™apporter des rÃ©ponses appropriÃ©es Ã  parti
 r de lâ€™expÃ©rience mÃ©ditative vÃ©cue dans lâ€™Ã©tat dâ€™esprit de l
 a Pleine Conscience.\nCycle sur 4 mercredi de 19h -21h30. Engagement s
 ur la totalitÃ©.Tarif 170â‚¬ - Echelonnement accordÃ©\nS'inscrire par 
 mail svp :Â espacebeauregard75@yahoo.fr\nContacter Christiane BeaugÃ©;
  enseignante MBSR MÃ©ditation Pleine Conscience ; sophrologue relaxolo
 gue\n\nPour plus d'information, aller sur https://epanews.fr/events/cy
 cle-apaisement-du-mal-tre-par-la-pleine-conscience-janvier2017
DTSTART;TZID=Europe/Paris:20170104T190000
DTEND;TZID=Europe/Paris:20170104T213000
CATEGORIES:75
LOCATION:Paris 75002
WEBSITE:http://www.pleineconscience75.com
URL:http://www.pleineconscience75.com
CONTACT:06 70 49 32 38 - 01 44 61 74 59
ORGANIZER;CN="Christiane BeaugÃ©":https://epanews.fr/profile/Christian
 eBeauge
ATTACH;FMTTYPE="image/jpeg":http://storage.ning.com/topology/rest/1.0/
 file/get/1663591980?profile=original
ATTENDEE;ROLE=REQ-PARTICIPANT;PARTSTAT=ACCEPTED;RSVP=TRUE;CN="Christia
 ne BeaugÃ©":https://epanews.fr/profile/ChristianeBeauge
END:VEVENT
END:VCALENDAR
