BEGIN:VCALENDAR
PRODID:NingEventWidget-v1
VERSION:2.0
METHOD:PUBLISH
BEGIN:VTIMEZONE
TZID:Europe/Paris
X-LIC-LOCATION:Europe/Paris
BEGIN:DAYLIGHT
TZOFFSETFROM:+0100
TZOFFSETTO:+0200
TZNAME:CEST
DTSTART:19700329T020000
RRULE:FREQ=YEARLY;BYMONTH=3;BYDAY=-1SU
END:DAYLIGHT
BEGIN:STANDARD
TZOFFSETFROM:+0200
TZOFFSETTO:+0100
TZNAME:CET
DTSTART:19701025T030000
RRULE:FREQ=YEARLY;BYMONTH=10;BYDAY=-1SU
END:STANDARD
END:VTIMEZONE
BEGIN:VEVENT
UID:2485226:Event:2843679
DTSTAMP:20260421T151938Z
SUMMARY:Cycle apaisement du mal-être par la pleine conscience
DESCRIPTION:Cycle de méditation Pleine Conscience : Apaisement du mal
 -être et des pensées négatives\nAteliers les mercredi 6 - 13 - 20 
 - 27 SEPTEMBRE de 19h - 21h30  Tarif : 170€ En groupe fermé : engag
 ement sur la totalité du Cycle.\nCe cycle \"Apaisement du mal-être\"
  est une possibilité de développer une nouvelle manière d'être en 
 relation avec les pensées et emotions négatives et de pratiquer de m
 anière intensive la méditation dans l'état d'esprit de la Pleine Co
 nscience.\nS'informer de ce cycle et                 \nINSCRI
 PTION OBLIGATOIRE par mail svp : espacebeauregard75@yahoo.fr\nChristi
 ane Beaugé, enseignante du programme MBSR - Sophrologue-Relaxologue\n
 Détails sur le site : www.pleineconscience75.com\n\nPour plus d'infor
 mation, aller sur https://epanews.fr/events/cycle-apaisement-du-mal-tr
 e-par-la-pleine-conscience-1
DTSTART;TZID=Europe/Paris:20170906T190000
DTEND;TZID=Europe/Paris:20170906T213000
CATEGORIES:75
LOCATION:Paris 75002
WEBSITE:http://www.pleineconscience75.com
URL:http://www.pleineconscience75.com
CONTACT:
ORGANIZER;CN="Christiane Beaugé":https://epanews.fr/profile/Christian
 eBeauge
ATTACH;FMTTYPE="image/jpeg":http://storage.ning.com/topology/rest/1.0/
 file/get/1663591980?profile=original
ATTENDEE;ROLE=REQ-PARTICIPANT;PARTSTAT=ACCEPTED;RSVP=TRUE;CN="Christia
 ne Beaugé":https://epanews.fr/profile/ChristianeBeauge
END:VEVENT
END:VCALENDAR
