BEGIN:VCALENDAR
PRODID:NingEventWidget-v1
VERSION:2.0
METHOD:PUBLISH
BEGIN:VTIMEZONE
TZID:Europe/Paris
X-LIC-LOCATION:Europe/Paris
BEGIN:DAYLIGHT
TZOFFSETFROM:+0100
TZOFFSETTO:+0200
TZNAME:CEST
DTSTART:19700329T020000
RRULE:FREQ=YEARLY;BYMONTH=3;BYDAY=-1SU
END:DAYLIGHT
BEGIN:STANDARD
TZOFFSETFROM:+0200
TZOFFSETTO:+0100
TZNAME:CET
DTSTART:19701025T030000
RRULE:FREQ=YEARLY;BYMONTH=10;BYDAY=-1SU
END:STANDARD
END:VTIMEZONE
BEGIN:VEVENT
UID:2485226:Event:2309729
DTSTAMP:20260423T152651Z
SUMMARY:Méditations alchimiques
DESCRIPTION:\"Cycle annuel de méditations alchimiques\" Méditation d
 e Mai Dimanche 3 mai 2015, à 20h30 (Paris) 14h30 (Québec) salle virt
 uelle Phoenix\nCe cycle correspond à la traversée complète des douz
 e signes du Zodiaque...Pour suivre cette méditation en salle virtuell
 e, il est recommandé de se munir de l'huille indiquée dans la descri
 ption de l'activité : HE Inule odorante pour le mois de Mai.\nPour pa
 rticiper à cette méditation gratuite :\nRendez-vous sur la page Accu
 eil du site :\nwww.phoenix-association.com\net cliquez sur le bouton \
 "Accès à la salle\" dans le bloc d'activité de Dana. Vous écrivez 
 votre prénom et cliquez sur ok pour entrer dans la salle virtuelle.\n
 Ou cliquez sur le lien ci-dessous\nAccès à la salle\nIl ne vous rest
 e plus qu'à vous laisser guider !\n\nPour plus d'information, aller s
 ur https://epanews.fr/events/cycle-annuel-de-m-ditation-alchimique-dan
 a
DTSTART;TZID=Europe/Paris:20150503T203000
DTEND;TZID=Europe/Paris:20150503T213000
CATEGORIES:tous
LOCATION:Salle Virtuelle Phoenix
WEBSITE:
URL:
CONTACT:
ORGANIZER;CN=Phoenix:https://epanews.fr/profile/Phoenix606
ATTACH;FMTTYPE="image/jpeg":http://storage.ning.com/topology/rest/1.0/
 file/get/1663385498?profile=original
ATTENDEE;ROLE=REQ-PARTICIPANT;PARTSTAT=ACCEPTED;RSVP=TRUE;CN=Phoenix:h
 ttps://epanews.fr/profile/Phoenix606
END:VEVENT
END:VCALENDAR
