BEGIN:VCALENDAR
PRODID:NingEventWidget-v1
VERSION:2.0
METHOD:PUBLISH
BEGIN:VTIMEZONE
TZID:Europe/Paris
X-LIC-LOCATION:Europe/Paris
BEGIN:DAYLIGHT
TZOFFSETFROM:+0100
TZOFFSETTO:+0200
TZNAME:CEST
DTSTART:19700329T020000
RRULE:FREQ=YEARLY;BYMONTH=3;BYDAY=-1SU
END:DAYLIGHT
BEGIN:STANDARD
TZOFFSETFROM:+0200
TZOFFSETTO:+0100
TZNAME:CET
DTSTART:19701025T030000
RRULE:FREQ=YEARLY;BYMONTH=10;BYDAY=-1SU
END:STANDARD
END:VTIMEZONE
BEGIN:VEVENT
UID:2485226:Event:1491103
DTSTAMP:20260422T220700Z
SUMMARY:Cueillette d'olive bio en Andalousie et logement en maison aut
 onome
DESCRIPTION:Entre décembre et mars venez cueillir vos olives bio et r
 apporter votre huile. Le type d'olive est Hojiblanca.\nLe logement peu
 t se faire en gîte, chambre d'hôte, dortoir, yourte ou camping avec 
 votre tente ou la notre.\nLe prix est en fonction du type de logement.
 \nexemple pour 7 nuits en demi-pension :\n\nsous tente (la votre) : 36
 0€\nsous tente (la notre) : 380€\ndortoir : 395€\nChambre d'hôt
 e (2 personnes ou 4 personnes) : 430€/personne\ngîte 4 personnes : 
 465€/personne\nyourte 5 personnes : 430€/Personne\nL'idéal serait
  un séjour de 10 nuits.\nLe séjour peut-être organisé à la carte 
 dès 4 personnes et dates flexibles pour le départ et l'arrivée.\nOn
  peut combiner ce séjour avec de la culture Grenade et Malaga ne sont
  qu'à 1h, Cordoue et Ronda à 1h20.\nCombiner avec des randos ou vél
 os. \nStage de cuisine solaire (four et cuiseur).\nStage jeûne, dét
 ox, manger vivant, manger cru.\nAutres stages entre avril et fin août
  sur demande.\nEnvoyez-moi un message si vous êtes intéressé par l'
 une ou l'autre de ces activités.\nJe peux vous envoyé une fiche dét
 aillée de proposition de stages.\nJe suis nouvelle sur épanews http
 ://youtu.be/zjHe93KArw0\n\nPour plus d'information, aller sur https://
 epanews.fr/events/cueillette-d-olive-bio-en-andalousie-et-logement-en-
 maison
DTSTART;TZID=Europe/Paris:20140110T080000
DTEND;TZID=Europe/Paris:20140118T190000
CATEGORIES:belgique
LOCATION:Andalousie intérieur à moins d'1h de Grenade et Malaga
WEBSITE:http://www.gites-insolites-ecologiques.com
URL:http://www.gites-insolites-ecologiques.com
CONTACT:34 689889221
ORGANIZER;CN=vero:https://epanews.fr/profile/vero328
ATTACH;FMTTYPE="image/jpeg":http://storage.ning.com/topology/rest/1.0/
 file/get/1662905676?profile=original
ATTENDEE;ROLE=REQ-PARTICIPANT;PARTSTAT=ACCEPTED;RSVP=TRUE;CN=vero:http
 s://epanews.fr/profile/vero328
END:VEVENT
END:VCALENDAR
