BEGIN:VCALENDAR
PRODID:NingEventWidget-v1
VERSION:2.0
METHOD:PUBLISH
BEGIN:VTIMEZONE
TZID:Europe/Paris
X-LIC-LOCATION:Europe/Paris
BEGIN:DAYLIGHT
TZOFFSETFROM:+0100
TZOFFSETTO:+0200
TZNAME:CEST
DTSTART:19700329T020000
RRULE:FREQ=YEARLY;BYMONTH=3;BYDAY=-1SU
END:DAYLIGHT
BEGIN:STANDARD
TZOFFSETFROM:+0200
TZOFFSETTO:+0100
TZNAME:CET
DTSTART:19701025T030000
RRULE:FREQ=YEARLY;BYMONTH=10;BYDAY=-1SU
END:STANDARD
END:VTIMEZONE
BEGIN:VEVENT
UID:2485226:Event:567385
DTSTAMP:20260423T155141Z
SUMMARY:Cristaux et Chemin de Vie: Quête de sens et Créativité
DESCRIPTION:Voyage chamanique - Expression créative - Energie des cri
 staux\nEveiller la force de vie, aller à la rencontre de Soi, découv
 rir nos potentiels\n - Accéder à notre monde intérieur et découvr
 ir nos ressources.\n- Ressentir notre énergie vitale qui cherche à m
 anifester notre nature véritable.\n- Ouvrir de nouvelles portes, un n
 ouvel horizon.\n- Restaurer l’équilibre intérieur pour se réalise
 r harmonieusement\nTarif: 180€ + 40€ (cristaux, matériel)\n\nPour
  plus d'information, aller sur https://epanews.fr/events/cristaux-et-c
 hemin-de-vie-qu-te-de-sens-et-cr-ativit
DTSTART;TZID=Europe/Paris:20111126T090000
DTEND;TZID=Europe/Paris:20111127T180000
CATEGORIES:07
LOCATION:valence
WEBSITE:
URL:
CONTACT:04 90 90 39 30
ORGANIZER;CN="Nature Conscience Chamanisme":https://epanews.fr/profile
 /NatureConscienceChamanisme
ATTACH;FMTTYPE="image/jpeg":http://storage.ning.com/topology/rest/1.0/
 file/get/1662477687?profile=original
ATTENDEE;ROLE=REQ-PARTICIPANT;PARTSTAT=ACCEPTED;RSVP=TRUE;CN="Nature C
 onscience Chamanisme":https://epanews.fr/profile/NatureConscienceChama
 nisme
END:VEVENT
END:VCALENDAR
