BEGIN:VCALENDAR
PRODID:NingEventWidget-v1
VERSION:2.0
METHOD:PUBLISH
BEGIN:VTIMEZONE
TZID:Europe/Paris
X-LIC-LOCATION:Europe/Paris
BEGIN:DAYLIGHT
TZOFFSETFROM:+0100
TZOFFSETTO:+0200
TZNAME:CEST
DTSTART:19700329T020000
RRULE:FREQ=YEARLY;BYMONTH=3;BYDAY=-1SU
END:DAYLIGHT
BEGIN:STANDARD
TZOFFSETFROM:+0200
TZOFFSETTO:+0100
TZNAME:CET
DTSTART:19701025T030000
RRULE:FREQ=YEARLY;BYMONTH=10;BYDAY=-1SU
END:STANDARD
END:VTIMEZONE
BEGIN:VEVENT
UID:2485226:Event:2458051
DTSTAMP:20260420T004205Z
SUMMARY:Ã‰crire comme un â€˜â€˜gesteâ€™â€™ intÃ©rieur, processus â€˜â€
 ˜organiqueâ€™â€™ : Ateliers dâ€™Ã©criture
DESCRIPTION:Ã‰crire comme un â€˜â€˜gesteâ€™â€™ intÃ©rieur, processus â
 €˜â€˜organiqueâ€™â€™Â : Ateliers dâ€™Ã©criture de NovembreÂ  2015\nÂ D
 imanche 8 : (dÃ©jÃ  3 inscrites) ou 15 : 13h30 - 17h30Â ; Dimanche 22 
 ou 29Â :14-18h\nAteliers rÃ©guliers Ã  Â Danse Connexion- 6 r. Mousset
  Robert -75012 Paris- MÂ° Picpus, Ligne 6. Au 1er en montant le perron
 .\nMiguel De Los Cobos- - TÃ©l : 01 43 73 23 83 ( 06 70 69 76 84 ) â€“
  mdlc2a@yahoo.fr-http://ecrituretransformations.blogvie.com/Â : 15, pa
 ssage Alexandrine - 75011 â€“ PARIS â€“\nStage dâ€™Ã©tÃ©Â : ET SI NOUS
  ECRIVIONS ENSEMBLE TOUT PRES DES MONTAGNESÂ ?\nÂ Notre Stage dâ€™Ecri
 ture du 14 au 17/07/2016 en AriÃ¨ge, accueillera toutes sortes dâ€™Ã©c
 ritures. Lieu de libertÃ© et dâ€™accueil propice Ã  la concentration, 
 Ã  la communication. D'exploration et dÃ©clenchement ou Â« accouchemen
 t Â» de nos projets dâ€™Ã©criture. DÃ©coller en imagination, se connaÃ
 ®tre ou faire connaissance par lâ€™Ã©criture.Â Â Â Â Â Â Â Â Â Â Â Â Â
  Â Â  Â ThÃ¨me du stageÂ : la crÃ©ativitÃ©, j'en suis un peu expert et
  accoucheur.\nÂ Avec les jeux avec le langage, explorer nos processus 
 personnels de crÃ©ativitÃ©. Cheminer dans nos paroles et trouver la pu
 issance de nos mots, la force dâ€™expression dans nos Ã©crits. Avec le
 s associations dâ€™idÃ©es et les analogies; pensÃ©e Â« divergente Â», 
 rÃªverie, incubation, sieste(sic!); oser doser les mÃ©langes, lâ€™ Â« 
 alchimie Â» ; fÃ©condation-transformation du nÃ©gatif; ouverture et rÃ
 ©ceptivitÃ© au vivant, dans la belle natureÂ  du Couserans.Vers une Ã©
 criture plus vivante. Et tous les textes que vous aimez le mieux Ã©cri
 re.\nÂ Du jeudi 14 juillet (Ã  16 h) au dimanche 17/07 (12 h) 2016Â Ã 
  SEIX en AriÃ¨ge dans une vallÃ©e au pied dâ€™un des plus hauts sommet
 s des PyrÃ©nÃ©es.\n5 ateliersÂ : 90 â‚¬ ou 900 piafs, ou Â monnaies de
 s SEL, Â Accorderies, ou rÃ©seaux sociaux; RSA, faibles revenusÂ : 70 
 â‚¬ (sur justificatifs). (Inclues facultativement 3 sÃ©ances de relaxa
 tion japonaise (Katsugen-Undo) qui favorisent la visualisation). Â Â  
 Camping Â« Au Songe du Vallier Â» Â :13 â‚¬/nuit sous tente.\nÂ 1 - Pr
 Ã©sentation du STAGE:Â  un tempsÂ pour dÃ©couvrir mutuellement nos uni
 vers. NaÃ®t une alliance autour de nos crÃ©ativitÃ©s, qui transforme l
 â€™esprit de concurrence en Ã©mulation complice.Trame de propositions 
 fortes, sensibles pour nourrir chacun : ressentis, perceptions, pensÃ©
 e, style, images,â€¦Dans cet environnement, Ã©crire avec notre sensibi
 litÃ©, rÃ©ceptivitÃ© et explorer la rÃ©alitÃ©, Â«Â entrerÂ Â» dans le 
 vivant. DÃ©couvrir ce dont nous avons besoin pour Ã©crire, ce que nous
  pouvons Â« voir Â» ou sentir. CrÃ©er parÂ« artisanat Â» personnel, no
 s thÃ¨mes dâ€™Ã©criture.Par Ã©coute de nos textes, nous les mettons en
  relief, nous rapprochant de lâ€™Ã©criture matiÃ¨re vivante.Parfois, u
 ne proposition magistrale: pour dÃ©marrer, mÃªme sans clÃ© de contact 
 ?Â Lâ€™Ã©criture peut se Â«Â dÃ©clencherÂ Â» quelque soit notre Ã©tat.
 \n-Explorations, Ã  faire germer, ou Ã  dÃ©velopper par dialogues dans
  le groupe.-Selon les tempÃ©raments,Â  un choix de pistes.-Ecrire pour
  le plaisir, pour vos plus belles idÃ©es, inspirÃ© par les personnages
  que vous aimez le plus (ou le moinsâ€¦).\nSpÃ©cificitÃ© de ces atelie
 rs :-les Â«Â Ã©crivantsÂ Â» peuvent Ãªtre aussi actifs quâ€™ils le sou
 haitent, Ã©laborer ou crÃ©er les propositions dâ€™Ã©criture.-dÃ©blocag
 es de lâ€™Ã©criture possibles :Â apprendre savoir-faire, ruses, sagess
 es..-Appel au vÃ©cu et Ã  lâ€™authenticitÃ©, autant quâ€™au jeu et Ã  
 lâ€™invention.\n\nPour plus d'information, aller sur https://epanews.f
 r/events/crire-comme-un-geste-int-rieur-processus-organique-ateliers-d
DTSTART;TZID=Europe/Paris:20151108T133000
DTEND;TZID=Europe/Paris:20151108T173000
CATEGORIES:75
LOCATION:Danse Connexion
WEBSITE:
URL:
CONTACT:06 70 69 76 64
ORGANIZER;CN="Miguel De Los Cobos":https://epanews.fr/profile/MiguelDe
 LosCobos138
ATTACH;FMTTYPE="image/jpeg":
ATTENDEE;ROLE=REQ-PARTICIPANT;PARTSTAT=ACCEPTED;RSVP=TRUE;CN="Miguel D
 e Los Cobos":https://epanews.fr/profile/MiguelDeLosCobos138
END:VEVENT
END:VCALENDAR
