BEGIN:VCALENDAR
PRODID:NingEventWidget-v1
VERSION:2.0
METHOD:PUBLISH
BEGIN:VTIMEZONE
TZID:Europe/Paris
X-LIC-LOCATION:Europe/Paris
BEGIN:DAYLIGHT
TZOFFSETFROM:+0100
TZOFFSETTO:+0200
TZNAME:CEST
DTSTART:19700329T020000
RRULE:FREQ=YEARLY;BYMONTH=3;BYDAY=-1SU
END:DAYLIGHT
BEGIN:STANDARD
TZOFFSETFROM:+0200
TZOFFSETTO:+0100
TZNAME:CET
DTSTART:19701025T030000
RRULE:FREQ=YEARLY;BYMONTH=10;BYDAY=-1SU
END:STANDARD
END:VTIMEZONE
BEGIN:VEVENT
UID:2485226:Event:192772
DTSTAMP:20260420T155613Z
SUMMARY:Création d'une école Montessori à Aubagne
DESCRIPTION:Dans le cadre de la création de l'école Privée Club Ama
 deus* à pédagogie Montessori (maternelle et début élémentaire) à
  Aubagne  Vous êtes invités samedi 5 février de 14 heures à 17 heu
 res aux Portes Ouvertes  Club Amadeus 1555 chemin de la Carreirade d'A
 llauch 13400 AUBAGNE 04 42 03 39 21\n\nwww.club-amadeus.fr\n\nPour plu
 s d'information, aller sur https://epanews.fr/events/creation-dune-eco
 le-montessori
DTSTART;TZID=Europe/Paris:20110205T140000
DTEND;TZID=Europe/Paris:20110205T170000
CATEGORIES:13
LOCATION:Aubagne
WEBSITE:http://www.club-amadeus.fr
URL:http://www.club-amadeus.fr
CONTACT:06 62 34 31 11
ORGANIZER:Rachel Estève 
ATTACH;FMTTYPE="image/jpeg":
ATTENDEE;ROLE=REQ-PARTICIPANT;PARTSTAT=ACCEPTED;RSVP=TRUE;CN="Jean-Pau
 l Biberian":https://epanews.fr/profile/JeanPaulBiberian
END:VEVENT
END:VCALENDAR
