BEGIN:VCALENDAR
PRODID:NingEventWidget-v1
VERSION:2.0
METHOD:PUBLISH
BEGIN:VTIMEZONE
TZID:Europe/Paris
X-LIC-LOCATION:Europe/Paris
BEGIN:DAYLIGHT
TZOFFSETFROM:+0100
TZOFFSETTO:+0200
TZNAME:CEST
DTSTART:19700329T020000
RRULE:FREQ=YEARLY;BYMONTH=3;BYDAY=-1SU
END:DAYLIGHT
BEGIN:STANDARD
TZOFFSETFROM:+0200
TZOFFSETTO:+0100
TZNAME:CET
DTSTART:19701025T030000
RRULE:FREQ=YEARLY;BYMONTH=10;BYDAY=-1SU
END:STANDARD
END:VTIMEZONE
BEGIN:VEVENT
UID:2485226:Event:1017582
DTSTAMP:20260422T151153Z
SUMMARY:Crânes de cristal à la Sainte-Baume
DESCRIPTION:Rencontre avec des crânes de cristal (Houmama et Sirius) 
 organisée le 12 décembre (12.12.12) en la Grotte de Marie-Madeleine 
 à la Sainte-Baume, à 11H.\nOn peut se retrouver à 9H devant la port
 e d'entrée du bâtiment maintenant désaffecté qui est en juste face
  de l'Hôtellerie de l'autre côté de la route (l'ancien écomusée).
 \nJe suis d'emblée assez vigilant (dans ces temps d'ouverture mais de
  confusion) envers ce genre de \"manifestation\" qui demande beaucoup 
 de discernement, surtout quand il s'agit de jouer avec du cristal, mai
 s la personne qui propose cette rencontre semble digne de confiance et
  avoir indirectement la caution d'Anne Givaudan. Martine Chalvidal qui
  l'a formé aux soins Esséniens est une proche d'Anne et il a par ail
 leurs animé un congrès avec Anne.\nPersonnellement et exceptionnelle
 ment, j'irai.\nOn trouvera ci-après des références Internet pour se
  faire sa propre idée.\n:)\nhttp://www.savoirperdu.com/index.html\nht
 tp://www.event-12-12-12.com/?p=248\nhttp://www.savoirperdu.com/divers.
 html\nhttp://www.savoirperdu.com/soinsEsseniens.html\n\nPour plus d'in
 formation, aller sur https://epanews.fr/events/cr-nes-de-cristal-saint
 e-baume
DTSTART;TZID=Europe/Paris:20121212T090000
DTEND;TZID=Europe/Paris:20121212T160000
CATEGORIES:13, 83
LOCATION:LA SAINTE BAUME - LA ROUBIERE
WEBSITE:http://maps.google.fr/maps?client=safari&rls=en&oe=UTF-8&redir
 _esc=&q=83640+PLAN+D'AUPS+LA+ROUBIÈRE&um=1&ie=UTF-8&hq=&hnear=0x12c90
 acc6cf24d01:0xba9af5b87c7d13d2,La+Roubière,+83640+Plan-d'Aups-Sainte-
 Baume&gl=fr&sa=X&ei=Z9qcUOK4FKGI0AX084CoDQ&ved=0CCMQ8gEwAA
URL:http://maps.google.fr/maps?client=safari&rls=en&oe=UTF-8&redir_esc
 =&q=83640+PLAN+D'AUPS+LA+ROUBIÈRE&um=1&ie=UTF-8&hq=&hnear=0x12c90acc6
 cf24d01:0xba9af5b87c7d13d2,La+Roubière,+83640+Plan-d'Aups-Sainte-Baum
 e&gl=fr&sa=X&ei=Z9qcUOK4FKGI0AX084CoDQ&ved=0CCMQ8gEwAA
CONTACT:
ORGANIZER;CN=Daimyo:https://epanews.fr/profile/Ghilwen
ATTACH;FMTTYPE="image/jpeg":http://storage.ning.com/topology/rest/1.0/
 file/get/1662694348?profile=original
ATTENDEE;ROLE=REQ-PARTICIPANT;PARTSTAT=ACCEPTED;RSVP=TRUE;CN=Aurélie:
 https://epanews.fr/profile/Aurelie
ATTENDEE;ROLE=REQ-PARTICIPANT;PARTSTAT=ACCEPTED;RSVP=TRUE;CN="Francois
 e Blanc":https://epanews.fr/profile/FrancoiseBlanc
ATTENDEE;ROLE=REQ-PARTICIPANT;PARTSTAT=ACCEPTED;RSVP=TRUE;CN=danielstc
 yrsurmer:https://epanews.fr/profile/danielstcyrsurmer
ATTENDEE;ROLE=REQ-PARTICIPANT;PARTSTAT=ACCEPTED;RSVP=TRUE;CN=Daimyo:ht
 tps://epanews.fr/profile/Ghilwen
END:VEVENT
END:VCALENDAR
