BEGIN:VCALENDAR
PRODID:NingEventWidget-v1
VERSION:2.0
METHOD:PUBLISH
BEGIN:VTIMEZONE
TZID:Europe/Paris
X-LIC-LOCATION:Europe/Paris
BEGIN:DAYLIGHT
TZOFFSETFROM:+0100
TZOFFSETTO:+0200
TZNAME:CEST
DTSTART:19700329T020000
RRULE:FREQ=YEARLY;BYMONTH=3;BYDAY=-1SU
END:DAYLIGHT
BEGIN:STANDARD
TZOFFSETFROM:+0200
TZOFFSETTO:+0100
TZNAME:CET
DTSTART:19701025T030000
RRULE:FREQ=YEARLY;BYMONTH=10;BYDAY=-1SU
END:STANDARD
END:VTIMEZONE
BEGIN:VEVENT
UID:2485226:Event:2610491
DTSTAMP:20260422T045441Z
SUMMARY:CrÃ©er votre propre jeu de cartes
DESCRIPTION:Artiste peintre, je vous propose de nous retrouver une jou
 rnÃ©e Â pour crÃ©er votre propre jeu de cartes afin de mieux vous orie
 nter dans vos choix, dans votre vie de tous les jours. Devenez ainsi v
 otre propre guide.  Tout en vous amusant et en vous faisant plaisir, v
 ous accÃ©dez Ã  votre propre lumiÃ¨re Â en dÃ©veloppant votre crÃ©ativ
 itÃ© et intuition. Vous allez vous Ã©tonnez de votre propre source d'i
 nspiration pour vous amener vers le meilleur pour vous mÃªme.  Tous ni
 veaux, que vous soyez grand dÃ©butant ou peintre expÃ©rimentÃ©, il sâ€
 ™agit dâ€™accÃ©der Ã  une peinture qui soitÂ  le reflet de votre Ã‚me 
   Â \nDates, horaires Â et lieux :\n  Â Les ateliers ont lieu dans le 
 16Ã¨me Ã  Paris (Porte de Saint Cloud). L'adresse vous est prÃ©cisÃ©e 
 lors de votre inscription dÃ©finitive.  Prochain atelier dimanche 27 m
 ars de 10H Ã  17H30 \nModalitÃ©s pratiques et tarifs :\nÂ  Le matÃ©rie
 l est fourniÂ (peintures, pinceaux, feuilles). Je vous suggÃ¨re dâ€™am
 ener une blouse ou autre vÃªtement de protection ainsi quâ€™un carton 
 Ã  dessin ou Ã©lastique pour ramener vos crÃ©ations.  Le tarif est de 
 110 euros.\nInscriptions :\nLes inscriptions sont possibles par mail Ã
  Â pascalegourdon@gmail.comÂ Â ouÂ par tÃ©lÃ©phone au 06.70.06.67.81. 
 Â Les inscriptions sont dÃ©finitives Ã  rÃ©ception dâ€™un chÃ¨que Â po
 ur les arrhes de 55 euros Ã  lâ€™ordre de Pascale Gourdon et Ã  envoye
 r Ã  Pascale GourdonÂ  196, avenue de Versailles 75016 Paris. Ce chÃ¨q
 ueÂ  ne sera pas encaissÃ© avant le dÃ©but du stage et sera conservÃ© 
 en cas de dâ€™annulation moins dâ€™une semaine avant la date de lâ€™at
 elier. Le solde de 55 euros, sera rÃ©glÃ© lors de l'atelier.Â \n\nPour
  plus d'information, aller sur https://epanews.fr/events/cr-er-votre-p
 ropre-jeu-de-cartes
DTSTART;TZID=Europe/Paris:20160327T060000
DTEND;TZID=Europe/Paris:20160327T173000
CATEGORIES:75
LOCATION:Paris 16, porte de St cloud
WEBSITE:http://www.pascalegourdon.com/creez-votre-propre-jeu-de-cartes
 .php
URL:http://www.pascalegourdon.com/creez-votre-propre-jeu-de-cartes.php
CONTACT:+33670066781
ORGANIZER;CN=Pascale:https://epanews.fr/profile/Pascale842
ATTACH;FMTTYPE="image/jpeg":http://storage.ning.com/topology/rest/1.0/
 file/get/1663547176?profile=original
ATTENDEE;ROLE=REQ-PARTICIPANT;PARTSTAT=ACCEPTED;RSVP=TRUE;CN=Pascale:h
 ttps://epanews.fr/profile/Pascale842
END:VEVENT
END:VCALENDAR
