BEGIN:VCALENDAR
PRODID:NingEventWidget-v1
VERSION:2.0
METHOD:PUBLISH
BEGIN:VTIMEZONE
TZID:Europe/Paris
X-LIC-LOCATION:Europe/Paris
BEGIN:DAYLIGHT
TZOFFSETFROM:+0100
TZOFFSETTO:+0200
TZNAME:CEST
DTSTART:19700329T020000
RRULE:FREQ=YEARLY;BYMONTH=3;BYDAY=-1SU
END:DAYLIGHT
BEGIN:STANDARD
TZOFFSETFROM:+0200
TZOFFSETTO:+0100
TZNAME:CET
DTSTART:19701025T030000
RRULE:FREQ=YEARLY;BYMONTH=10;BYDAY=-1SU
END:STANDARD
END:VTIMEZONE
BEGIN:VEVENT
UID:2485226:Event:1532948
DTSTAMP:20260422T023521Z
SUMMARY:Cours Yoga de l'énergie à  Montpellier
DESCRIPTION:Nouveau.\nCours de Hatha Yoga (lignée Yoga de l'Energie)\
 nLes Mardis\nde 18 h 15 à 19 h 30\net de 19 h 45 à 21 h 00\nau 134 a
 v de Toulouse\nIl s'agit d'un yoga  à la fois doux et tonique respec
 tueux de chacun. Ce yoga d'inspiration tibétaine compilé par Roger C
 lerc est aussi principalement coloré par le yoga de l'Inde du Sud de 
 la ligné de TKV Désikachar.\n\nPour plus d'information, aller sur ht
 tps://epanews.fr/events/cours-yoga-de-l-nergie-montpellier
DTSTART;TZID=Europe/Paris:20130917T180000
DTEND;TZID=Europe/Paris:20130917T210000
CATEGORIES:34
LOCATION:MONTPELLIER
WEBSITE:
URL:
CONTACT:0681214334
ORGANIZER;CN=Padmaloka:https://epanews.fr/profile/Padmaloka
ATTACH;FMTTYPE="image/jpeg":http://storage.ning.com/topology/rest/1.0/
 file/get/1662921654?profile=original
ATTENDEE;ROLE=REQ-PARTICIPANT;PARTSTAT=ACCEPTED;RSVP=TRUE;CN=Padmaloka
 :https://epanews.fr/profile/Padmaloka
END:VEVENT
END:VCALENDAR
