BEGIN:VCALENDAR
PRODID:NingEventWidget-v1
VERSION:2.0
METHOD:PUBLISH
BEGIN:VTIMEZONE
TZID:Europe/Paris
X-LIC-LOCATION:Europe/Paris
BEGIN:DAYLIGHT
TZOFFSETFROM:+0100
TZOFFSETTO:+0200
TZNAME:CEST
DTSTART:19700329T020000
RRULE:FREQ=YEARLY;BYMONTH=3;BYDAY=-1SU
END:DAYLIGHT
BEGIN:STANDARD
TZOFFSETFROM:+0200
TZOFFSETTO:+0100
TZNAME:CET
DTSTART:19701025T030000
RRULE:FREQ=YEARLY;BYMONTH=10;BYDAY=-1SU
END:STANDARD
END:VTIMEZONE
BEGIN:VEVENT
UID:2485226:Event:2826302
DTSTAMP:20260426T045944Z
SUMMARY:Cours gratuit de Tango Argentin à Sanary
DESCRIPTION:                 Cours GRATUIT de Tango Ar
 gentin à SANARY\nLe TANGO , danse de couple, danse d'improvisation, e
 st un fabuleux outil pour une réflexion sur la relation à l'autre, q
 uelque soit le type de relation !\nchaque Samedi à 20h, et le Lundi 
 en alternance avec la Méthode Feldenkrais à 19h 30\nCes 2 cours se p
 rolongent d'un autre cours à 10€ accessible aux débutants et initi
 és, et ceux ayant participé au 1e cours.\nLundi à 20H 15\nSamedi à
  21h\nOù : Salle des Lentisques Chemin de la Millière ( Stade des Pi
 cotieres) SANARY\nToutes les infos sont sur le site :\nhttp://lecorpsd
 utango.blog4ever.com\nContact 0619778327\n\nPour plus d'information, a
 ller sur https://epanews.fr/events/cours-gratuit-de-tango-argentin-san
 ary-10
DTSTART;TZID=Europe/Paris:20170520T200000
DTEND;TZID=Europe/Paris:20170520T220000
CATEGORIES:83
LOCATION:Sanary/mer
WEBSITE:http://lecorpsdutango.blog4ever.com
URL:http://lecorpsdutango.blog4ever.com
CONTACT:0619778327
ORGANIZER;CN="Anne-Marie PAILLARD":https://epanews.fr/profile/AnneMari
 ePAILLARD
ATTACH;FMTTYPE="image/jpeg":http://storage.ning.com/topology/rest/1.0/
 file/get/1663619338?profile=original
ATTENDEE;ROLE=REQ-PARTICIPANT;PARTSTAT=ACCEPTED;RSVP=TRUE;CN="Anne-Mar
 ie PAILLARD":https://epanews.fr/profile/AnneMariePAILLARD
END:VEVENT
END:VCALENDAR
