BEGIN:VCALENDAR
PRODID:NingEventWidget-v1
VERSION:2.0
METHOD:PUBLISH
BEGIN:VTIMEZONE
TZID:Europe/Paris
X-LIC-LOCATION:Europe/Paris
BEGIN:DAYLIGHT
TZOFFSETFROM:+0100
TZOFFSETTO:+0200
TZNAME:CEST
DTSTART:19700329T020000
RRULE:FREQ=YEARLY;BYMONTH=3;BYDAY=-1SU
END:DAYLIGHT
BEGIN:STANDARD
TZOFFSETFROM:+0200
TZOFFSETTO:+0100
TZNAME:CET
DTSTART:19701025T030000
RRULE:FREQ=YEARLY;BYMONTH=10;BYDAY=-1SU
END:STANDARD
END:VTIMEZONE
BEGIN:VEVENT
UID:2485226:Event:2179186
DTSTAMP:20260423T065224Z
SUMMARY:Cours en ligne: La maitrise du systÃ¨me de guidance
DESCRIPTION:DESCRIPTION DU COURS\nÂ Dans ce cours EXPÃ‰RIENTIEL, vous 
 apprendrez Ã  DISCERNER lâ€™information et Ã  utiliser votre guidance 
 correctement. Vous saurez aussi reconnaÃ®tre et inverser les blocages 
 inconscients et les projections qui pourraient vous empÃªcher de recev
 oir la guidance appropriÃ©e. Nous allons aussi examiner et pratiquer c
 e qui suitÂ :\n- Â Comment fonctionne rÃ©ellement votre systÃ¨me de gu
 idance:Â Vous avez de lâ€™intuition ou vous suivez ce que vous dicte v
 otre instinct. Oui, mais comment fonctionne vraiment lâ€™intuition? Es
 t-ce que vos sentiments sont-ils toujours prÃ©cis?\n- Â Le Moi SupÃ©ri
 eur par rapport au Moi UniverselÂ :Â Comment ces concepts sâ€™intÃ¨gre
 nt-ils dans votre systÃ¨me de guidanceÂ ?\n- Â Le rÃ´le de votre famil
 le spirituelle et de vos guides spirituelsÂ :Â Vous avez des guides. O
 ui, mais qui sont-ilsÂ ? Et comment Ãªtes-vous vraiment connectÃ©s Ã  
 euxÂ ?\n- Â Quelle est votre rÃ©elle lignÃ©e divine et quel type dâ€™Ã
 ªtre Ãªtes-vous (Introduction)Â :Â Vous avez une apparence humaine, ma
 is vous pourriez provenir dâ€™un autre systÃ¨me planÃ©taire. Cette inf
 ormation nâ€™a-t-elle pas un rapport avec qui vous Ãªtes aujourdâ€™hui
  et avec ce que vous faites sur TerreÂ ?Â \n- Â Le karma et le contrat
  prÃ©natalÂ :Â Si nous pouvons crÃ©er notre rÃ©alitÃ©, est-ce que cela
  veut dire que les dettes karmiques interfÃ¨rent avec notre crÃ©ationÂ
  ?\n- Â Le rÃ´le des rÃªves et des visions et leur interprÃ©tationÂ :Â
  Utilisez un systÃ¨me dâ€™interprÃ©tation de vos rÃªves et de vos visi
 ons qui soit propre Ã  vous.\n- Â Lâ€™Ã©criture automatiqueÂ :Â Commen
 t permettre Ã  sa Conscience SupÃ©rieure de sâ€™exprimer Ã  travers la
  forme humaine sans lâ€™ingÃ©rence de lâ€™esprit et de la perspective 
 analytiquesÂ ?\nÂ \n* Nous vous rappelons que ceci est un cours pratiq
 ue, et donc nous consacrerons notre attention sur vos circonstances pe
 rsonnelles et vos problÃ¨mes actuels pour vous permettre de vous exerc
 er Ã  recevoir la bonne guidance au quotidien.\nPour s'inscrire:\nhttp
 ://www.omniumuniverse.com/Francais/Agenda/\n\nPour plus d'information,
  aller sur https://epanews.fr/events/cours-en-ligne-la-maitrise-du-sys
 t-me-de-guidance
DTSTART;TZID=Europe/Paris:20150113T200000
DTEND;TZID=Europe/Paris:20150113T211500
CATEGORIES:tous
LOCATION:En ligne
WEBSITE:http://www.omnium-francais.com
URL:http://www.omnium-francais.com
CONTACT:
ORGANIZER;CN=OMnium:https://epanews.fr/profile/OMnium
ATTACH;FMTTYPE="image/jpeg":http://storage.ning.com/topology/rest/1.0/
 file/get/1663306270?profile=original
ATTENDEE;ROLE=REQ-PARTICIPANT;PARTSTAT=ACCEPTED;RSVP=TRUE;CN=OMnium:ht
 tps://epanews.fr/profile/OMnium
END:VEVENT
END:VCALENDAR
