BEGIN:VCALENDAR
PRODID:NingEventWidget-v1
VERSION:2.0
METHOD:PUBLISH
BEGIN:VTIMEZONE
TZID:Europe/Paris
X-LIC-LOCATION:Europe/Paris
BEGIN:DAYLIGHT
TZOFFSETFROM:+0100
TZOFFSETTO:+0200
TZNAME:CEST
DTSTART:19700329T020000
RRULE:FREQ=YEARLY;BYMONTH=3;BYDAY=-1SU
END:DAYLIGHT
BEGIN:STANDARD
TZOFFSETFROM:+0200
TZOFFSETTO:+0100
TZNAME:CET
DTSTART:19701025T030000
RRULE:FREQ=YEARLY;BYMONTH=10;BYDAY=-1SU
END:STANDARD
END:VTIMEZONE
BEGIN:VEVENT
UID:2485226:Event:1806889
DTSTAMP:20260422T224551Z
SUMMARY:Cours de Yoga
DESCRIPTION:Cours de Yoga tous les Mardi à 11h.\nNombre de places lim
 ité.\n1 cours d'essai avant abonnement.\n\n\n\nPour plus d'informatio
 n, aller sur https://epanews.fr/events/cours-de-yoga-2
DTSTART;TZID=Europe/Paris:20140304T110000
DTEND;TZID=Europe/Paris:20140304T120000
CATEGORIES:75
LOCATION:Paris 16e
WEBSITE:https://maps.google.com/maps?q=22+Rue+des+Sablons,+Paris,+Fran
 ce&hl=fr&ie=UTF8&sll=37.0625,-95.677068&sspn=35.684144,77.167969&oq=22
 +rue+des+sa&hnear=22+Rue+des+Sablons,+75116+Paris,+%C3%8Ele-de-France,
 +France&t=m&z=16
URL:https://maps.google.com/maps?q=22+Rue+des+Sablons,+Paris,+France&h
 l=fr&ie=UTF8&sll=37.0625,-95.677068&sspn=35.684144,77.167969&oq=22+rue
 +des+sa&hnear=22+Rue+des+Sablons,+75116+Paris,+%C3%8Ele-de-France,+Fra
 nce&t=m&z=16
CONTACT:0781628595
ORGANIZER;CN=Raphaëlle:https://epanews.fr/profile/Raphaelle174
ATTACH;FMTTYPE="image/jpeg":http://storage.ning.com/topology/rest/1.0/
 file/get/1663073170?profile=original
ATTENDEE;ROLE=REQ-PARTICIPANT;PARTSTAT=ACCEPTED;RSVP=TRUE;CN=Raphaëll
 e:https://epanews.fr/profile/Raphaelle174
END:VEVENT
END:VCALENDAR
