BEGIN:VCALENDAR
PRODID:NingEventWidget-v1
VERSION:2.0
METHOD:PUBLISH
BEGIN:VTIMEZONE
TZID:Europe/Paris
X-LIC-LOCATION:Europe/Paris
BEGIN:DAYLIGHT
TZOFFSETFROM:+0100
TZOFFSETTO:+0200
TZNAME:CEST
DTSTART:19700329T020000
RRULE:FREQ=YEARLY;BYMONTH=3;BYDAY=-1SU
END:DAYLIGHT
BEGIN:STANDARD
TZOFFSETFROM:+0200
TZOFFSETTO:+0100
TZNAME:CET
DTSTART:19701025T030000
RRULE:FREQ=YEARLY;BYMONTH=10;BYDAY=-1SU
END:STANDARD
END:VTIMEZONE
BEGIN:VEVENT
UID:2485226:Event:2940578
DTSTAMP:20260420T213101Z
SUMMARY:cours de voix
DESCRIPTION:samedi 24 mars de 14h à 16h , cours de voix :\nconscience
  corps, sens , voix, jeux vocaux, libération de la voix, respiration 
 , chant méditatif...\n16 € l'atelier\n\nPour plus d'information, al
 ler sur https://epanews.fr/events/cours-de-voix
DTSTART;TZID=Europe/Paris:20180324T140000
DTEND;TZID=Europe/Paris:20180324T160000
CATEGORIES:33
LOCATION:talence
WEBSITE:http://www.ecoleduspectacle.net
URL:http://www.ecoleduspectacle.net
CONTACT:0651359760
ORGANIZER;CN="L'ecole du Spectacle":https://epanews.fr/profile/Lecoled
 uSpectacle
ATTACH;FMTTYPE="image/jpeg":http://storage.ning.com/topology/rest/1.0/
 file/get/1663729999?profile=original
ATTENDEE;ROLE=REQ-PARTICIPANT;PARTSTAT=ACCEPTED;RSVP=TRUE;CN="L'ecole 
 du Spectacle":https://epanews.fr/profile/LecoleduSpectacle
END:VEVENT
END:VCALENDAR
