BEGIN:VCALENDAR
PRODID:NingEventWidget-v1
VERSION:2.0
METHOD:PUBLISH
BEGIN:VTIMEZONE
TZID:Europe/Paris
X-LIC-LOCATION:Europe/Paris
BEGIN:DAYLIGHT
TZOFFSETFROM:+0100
TZOFFSETTO:+0200
TZNAME:CEST
DTSTART:19700329T020000
RRULE:FREQ=YEARLY;BYMONTH=3;BYDAY=-1SU
END:DAYLIGHT
BEGIN:STANDARD
TZOFFSETFROM:+0200
TZOFFSETTO:+0100
TZNAME:CET
DTSTART:19701025T030000
RRULE:FREQ=YEARLY;BYMONTH=10;BYDAY=-1SU
END:STANDARD
END:VTIMEZONE
BEGIN:VEVENT
UID:2485226:Event:2708141
DTSTAMP:20260422T224700Z
SUMMARY:Cours de Tai ji quan
DESCRIPTION:Bonjour Ã  chacune et Ã  chacun\nLe Tai ji quan considÃ©rÃ
 © la plupart du temps comme un excellent exercice de santÃ©, se prÃ©se
 ntant sous la forme dâ€™un enchaÃ®nement de mouvements lents, ronds et
  souples, appelÃ© la forme.\nIl nâ€™est jugÃ© de ce point de vue que p
 ar des pratiquants dÃ©butants ou, vue de â€˜â€˜lâ€™extÃ©rieurâ€™â€™ pa
 r le â€˜â€˜curieuxâ€™â€™ voyant Ã©voluer des pratiquants dans des jard
 ins publics.\nJe vous propose de juger par vous-mÃªme en venant Ã  mes
  cours de Tai ji quan.\nStyle yang, forme ancestrale, encore trÃ¨s â€˜
 â€˜discrÃ¨teâ€™â€™ aujourdâ€™hui car trÃ¨s peu la pratique de par la r
 upture du lien traditionnel de ses MaÃ®tres.\nMalgrÃ© tout, elle se pe
 rpÃ©tue et Ã©volue au travers de MaÃ®tres sâ€™efforÃ§ant de nous en lÃ
 ©guer les subtilitÃ©s.\nCâ€™est Ã  cette forme que je me suis attachÃ©
  et ce depuis plus vingt ans.\nPour plus de dÃ©tails, vous pouvez cons
 ulter le nouveau groupe que jâ€™ai crÃ©e sur EpanewsÂ : http://epanews
 .fr/group/tai-ji-quan-a-lyon\nhttp://epanews.fr/group/tai-ji-quan-a-ly
 on/page/le-tai-ji-quan-lyon#.VdtMlJe2Vn0\nEt des vidÃ©os surÂ : http:/
 /epanews.fr/video/gu-meisheng-taoisme-et-taiji-quan-partie-1\nAu plais
 ir de vous rencontrerÂ !\nPier\nÂ \n\nPour plus d'information, aller s
 ur https://epanews.fr/events/cours-de-tai-ji-quan
DTSTART;TZID=Europe/Paris:20161108T180000
DTEND;TZID=Europe/Paris:20161108T200000
CATEGORIES:69
LOCATION:LYON Loft-Zen
WEBSITE:https://goo.gl/maps/6tyF9xi52ey
URL:https://goo.gl/maps/6tyF9xi52ey
CONTACT:06 27 11 31 25
ORGANIZER;CN=gem-masser:https://epanews.fr/profile/gem_masser
ATTACH;FMTTYPE="image/jpeg":http://storage.ning.com/topology/rest/1.0/
 file/get/1663601405?profile=original
ATTENDEE;ROLE=REQ-PARTICIPANT;PARTSTAT=ACCEPTED;RSVP=TRUE;CN=Alain58:h
 ttps://epanews.fr/profile/Alain58
ATTENDEE;ROLE=REQ-PARTICIPANT;PARTSTAT=ACCEPTED;RSVP=TRUE;CN=gem-masse
 r:https://epanews.fr/profile/gem_masser
END:VEVENT
END:VCALENDAR
