BEGIN:VCALENDAR
PRODID:NingEventWidget-v1
VERSION:2.0
METHOD:PUBLISH
BEGIN:VTIMEZONE
TZID:Europe/Paris
X-LIC-LOCATION:Europe/Paris
BEGIN:DAYLIGHT
TZOFFSETFROM:+0100
TZOFFSETTO:+0200
TZNAME:CEST
DTSTART:19700329T020000
RRULE:FREQ=YEARLY;BYMONTH=3;BYDAY=-1SU
END:DAYLIGHT
BEGIN:STANDARD
TZOFFSETFROM:+0200
TZOFFSETTO:+0100
TZNAME:CET
DTSTART:19701025T030000
RRULE:FREQ=YEARLY;BYMONTH=10;BYDAY=-1SU
END:STANDARD
END:VTIMEZONE
BEGIN:VEVENT
UID:2485226:Event:1533952
DTSTAMP:20260422T084213Z
SUMMARY:Cours de Tai Chi \"Le Soi en Mouvement\"
DESCRIPTION:Le fruit de 31 annÃ©es dâ€™expÃ©riences\nLa recherche de l
 a joie intÃ©rieure dans un mouvement fluide portÃ© par la prÃ©sence et
  lâ€™attention constitue la base de ma pratique, mon laboratoire dâ€™e
 xpÃ©rience de la conscience. Les cours sont ouverts Ã  tous, nous prat
 iquons toujours en musique et dans la joie.\n1er cours Gratuit et sans
  engagement\n_______________Mes appuis________________\nTai chi Â«Â la
  danse du TaoÂ Â»\nTechniques psychocorporelles, mÃ©ditations, connais
 sance de soi, respect de lâ€™autre, nourrissent cette approche nouvell
 e reliÃ©e aux sources des traditions.\nLa joie nâ€™est pas le but, câ€
 ™est le cheminÂ !\nPatrick Ongaro\n\nPour plus d'information, aller su
 r https://epanews.fr/events/cours-de-tai-chi-le-soi-en-mouvement
DTSTART;TZID=Europe/Paris:20130917T200000
DTEND;TZID=Europe/Paris:20130917T213000
CATEGORIES:75
LOCATION:Association ThÃ©Ã¢tre de la Terre
WEBSITE:http://www.point-emergence.com
URL:http://www.point-emergence.com
CONTACT:01 48 73 63 69
ORGANIZER;CN="Patrick Ongaro":https://epanews.fr/profile/PatrickOngaro
ATTACH;FMTTYPE="image/jpeg":http://storage.ning.com/topology/rest/1.0/
 file/get/1662925498?profile=original
ATTENDEE;ROLE=REQ-PARTICIPANT;PARTSTAT=ACCEPTED;RSVP=TRUE;CN="Patrick 
 Ongaro":https://epanews.fr/profile/PatrickOngaro
END:VEVENT
END:VCALENDAR
