BEGIN:VCALENDAR
PRODID:NingEventWidget-v1
VERSION:2.0
METHOD:PUBLISH
BEGIN:VTIMEZONE
TZID:Europe/Paris
X-LIC-LOCATION:Europe/Paris
BEGIN:DAYLIGHT
TZOFFSETFROM:+0100
TZOFFSETTO:+0200
TZNAME:CEST
DTSTART:19700329T020000
RRULE:FREQ=YEARLY;BYMONTH=3;BYDAY=-1SU
END:DAYLIGHT
BEGIN:STANDARD
TZOFFSETFROM:+0200
TZOFFSETTO:+0100
TZNAME:CET
DTSTART:19701025T030000
RRULE:FREQ=YEARLY;BYMONTH=10;BYDAY=-1SU
END:STANDARD
END:VTIMEZONE
BEGIN:VEVENT
UID:2485226:Event:46925
DTSTAMP:20260421T084724Z
SUMMARY:Cours de sophrologie
DESCRIPTION:Venez découvrir la sophrologie avec Dominique, tous les l
 undis à L'Espace 34 (www.espace34.org)\nLa première séance est grat
 uite !\n\nLa sophrologie permet de se mettre ou de se remettre à l'é
 coute de son corps. Mise au point dans les années 60 par un neuropsyc
 hiatre, le Pr. Alfonso Caycedo, elle s'inspire entre autre de méthode
 s telles que la relaxation, le yoga ou le zen.\n\nDes techniques simpl
 es et variés en font une méthode accessible à tous et adaptée à c
 hacun, en respectant et renforçant ses propres capacités.\nLes exerc
 ices pratiqués s'appuient principalement sur des techniques de respir
 ation, de tension-détente des muscles, de visualisation de situations
  agréables et de concentration sur les sensations corporelles. Ils s'
 effectuent allongé, assis ou debout, généralement les yeux fermés.
 \n\nUne méthode qui a fait ses preuves dans divers domaines: Monde du
  travail, développement personnel, préparation aux examens, compéti
 tion et sport, préparation à l'accouchement,....\n\nPour plus d'info
 rmation, aller sur https://epanews.fr/events/cours-de-sophrologie
DTSTART;TZID=Europe/Paris:20100412T190000
DTEND;TZID=Europe/Paris:20100412T200000
CATEGORIES:75
LOCATION:L'Espace34
WEBSITE:http://www.espace34.org/
URL:http://www.espace34.org/
CONTACT:0662233824
ORGANIZER;CN=Dominic:https://epanews.fr/profile/Dominic
ATTACH;FMTTYPE="image/jpeg":
ATTENDEE;ROLE=REQ-PARTICIPANT;PARTSTAT=ACCEPTED;RSVP=TRUE;CN=Dominic:h
 ttps://epanews.fr/profile/Dominic
END:VEVENT
END:VCALENDAR
