BEGIN:VCALENDAR
PRODID:NingEventWidget-v1
VERSION:2.0
METHOD:PUBLISH
BEGIN:VTIMEZONE
TZID:Europe/Paris
X-LIC-LOCATION:Europe/Paris
BEGIN:DAYLIGHT
TZOFFSETFROM:+0100
TZOFFSETTO:+0200
TZNAME:CEST
DTSTART:19700329T020000
RRULE:FREQ=YEARLY;BYMONTH=3;BYDAY=-1SU
END:DAYLIGHT
BEGIN:STANDARD
TZOFFSETFROM:+0200
TZOFFSETTO:+0100
TZNAME:CET
DTSTART:19701025T030000
RRULE:FREQ=YEARLY;BYMONTH=10;BYDAY=-1SU
END:STANDARD
END:VTIMEZONE
BEGIN:VEVENT
UID:2485226:Event:753663
DTSTAMP:20260425T015716Z
SUMMARY:Cours de mÃ©ditation
DESCRIPTION:Venez apprendre Ã  mÃ©diter, mais aussi comprendre comment
  mettre en place une pratique complÃ¨te.\nNotre dÃ©sir est de partager
  avec vous la richesse des enseignements traditionnels et contemporain
 s, afin de vous permettre de vous Ã©panouir grÃ¢ce Ã  votre pratique q
 uotidienne, de mieux vous connaÃ®tre, de pacifier et purifier votre me
 ntal, Ã©tapes nÃ©cessaires pour accÃ©der Ã  la sagesse de notre Consci
 ence Ã  tout moment. Les cours de mÃ©ditation auront lieuÂ 2 fois parÂ
  mois, deÂ 19h30Â Ã  21h30 environ. Merci de nous avertir de votre prÃ
 ©sence.\nCalendrier des cours sur notre site.\n\nPour plus d'informati
 on, aller sur https://epanews.fr/events/cours-de-m-ditation
DTSTART;TZID=Europe/Paris:20120426T193000
DTEND;TZID=Europe/Paris:20120426T213000
CATEGORIES:81
LOCATION:ALBI
WEBSITE:http://shaktima-ayurveda.com/cours_de_meditation.html
URL:http://shaktima-ayurveda.com/cours_de_meditation.html
CONTACT:06 27 26 69 11
ORGANIZER;CN="Association SHAKTIMA":https://epanews.fr/profile/Associa
 tionSHAKTIMA
ATTACH;FMTTYPE="image/jpeg":http://storage.ning.com/topology/rest/1.0/
 file/get/1662587512?profile=original
ATTENDEE;ROLE=REQ-PARTICIPANT;PARTSTAT=ACCEPTED;RSVP=TRUE;CN="Associat
 ion SHAKTIMA":https://epanews.fr/profile/AssociationSHAKTIMA
END:VEVENT
END:VCALENDAR
