BEGIN:VCALENDAR
PRODID:NingEventWidget-v1
VERSION:2.0
METHOD:PUBLISH
BEGIN:VTIMEZONE
TZID:Europe/Paris
X-LIC-LOCATION:Europe/Paris
BEGIN:DAYLIGHT
TZOFFSETFROM:+0100
TZOFFSETTO:+0200
TZNAME:CEST
DTSTART:19700329T020000
RRULE:FREQ=YEARLY;BYMONTH=3;BYDAY=-1SU
END:DAYLIGHT
BEGIN:STANDARD
TZOFFSETFROM:+0200
TZOFFSETTO:+0100
TZNAME:CET
DTSTART:19701025T030000
RRULE:FREQ=YEARLY;BYMONTH=10;BYDAY=-1SU
END:STANDARD
END:VTIMEZONE
BEGIN:VEVENT
UID:2485226:Event:893279
DTSTAMP:20260422T022323Z
SUMMARY:Cours de do in et yoga
DESCRIPTION:Je vous propose de venir participer Ã  une matinÃ©e do in 
 et yoga en plein air Ã  la FarlÃ¨de de 9h Ã  11h environ ( adresse prÃ
 ©cise donnÃ©e aprÃ¨s contact). Suivi d'un pique nique pour ceux qui so
 uhaitent.C'est libre et ceux qui souhaitent tout de mÃªme faire une do
 nation ou un Ã©change voir : http://unespacedeserenite.wordpress.com/c
 ategory/echanges-recherches/\n\nPour plus d'information, aller sur htt
 ps://epanews.fr/events/cours-de-do-in-et-yoga
DTSTART;TZID=Europe/Paris:20120822T090000
DTEND;TZID=Europe/Paris:20120822T110000
CATEGORIES:83210
LOCATION:La Farlede
WEBSITE:
URL:
CONTACT:0668197889
ORGANIZER;CN="un espace de serenitÃ©":https://epanews.fr/profile/unesp
 acedeserenite
ATTACH;FMTTYPE="image/jpeg":http://storage.ning.com/topology/rest/1.0/
 file/get/1662641222?profile=original
ATTENDEE;ROLE=REQ-PARTICIPANT;PARTSTAT=ACCEPTED;RSVP=TRUE;CN="un espac
 e de serenitÃ©":https://epanews.fr/profile/unespacedeserenite
END:VEVENT
END:VCALENDAR
