BEGIN:VCALENDAR
PRODID:NingEventWidget-v1
VERSION:2.0
METHOD:PUBLISH
BEGIN:VTIMEZONE
TZID:Europe/Paris
X-LIC-LOCATION:Europe/Paris
BEGIN:DAYLIGHT
TZOFFSETFROM:+0100
TZOFFSETTO:+0200
TZNAME:CEST
DTSTART:19700329T020000
RRULE:FREQ=YEARLY;BYMONTH=3;BYDAY=-1SU
END:DAYLIGHT
BEGIN:STANDARD
TZOFFSETFROM:+0200
TZOFFSETTO:+0100
TZNAME:CET
DTSTART:19701025T030000
RRULE:FREQ=YEARLY;BYMONTH=10;BYDAY=-1SU
END:STANDARD
END:VTIMEZONE
BEGIN:VEVENT
UID:2485226:Event:575946
DTSTAMP:20260423T025241Z
SUMMARY:Cours de danse africaine
DESCRIPTION:Bonjour à tous.\nL'association Les Mains Sages propose de
 s cours de danse traditionnelle africaine niveau débutant tous les sa
 medis de 10h à 11h45 au centre culturel altitude 500 à Grasse (06). 
 Nous disposons d'un nouveau créneau horaire les vendredi de 18h30 à 
 20h à partir du 4 novembre.\nN'hésitez pas à nous contacter pour pl
 us d'informations.\nA bientôt.\nSylvaine\n\nPour plus d'information, 
 aller sur https://epanews.fr/events/cours-de-danse-africaine
DTSTART;TZID=Europe/Paris:20111104T183000
DTEND;TZID=Europe/Paris:20111104T200000
CATEGORIES:06
LOCATION:Grasse
WEBSITE:
URL:
CONTACT:06 46 50 43 80
ORGANIZER;CN=Sylvaine:https://epanews.fr/profile/Sylvaine
ATTACH;FMTTYPE="image/jpeg":http://storage.ning.com/topology/rest/1.0/
 file/get/1662477783?profile=original
ATTENDEE;ROLE=REQ-PARTICIPANT;PARTSTAT=ACCEPTED;RSVP=TRUE;CN=Sylvaine:
 https://epanews.fr/profile/Sylvaine
END:VEVENT
END:VCALENDAR
