BEGIN:VCALENDAR
PRODID:NingEventWidget-v1
VERSION:2.0
METHOD:PUBLISH
BEGIN:VTIMEZONE
TZID:Europe/Paris
X-LIC-LOCATION:Europe/Paris
BEGIN:DAYLIGHT
TZOFFSETFROM:+0100
TZOFFSETTO:+0200
TZNAME:CEST
DTSTART:19700329T020000
RRULE:FREQ=YEARLY;BYMONTH=3;BYDAY=-1SU
END:DAYLIGHT
BEGIN:STANDARD
TZOFFSETFROM:+0200
TZOFFSETTO:+0100
TZNAME:CET
DTSTART:19701025T030000
RRULE:FREQ=YEARLY;BYMONTH=10;BYDAY=-1SU
END:STANDARD
END:VTIMEZONE
BEGIN:VEVENT
UID:2485226:Event:965916
DTSTAMP:20260420T092736Z
SUMMARY:Cours de Biodanza à Chatou
DESCRIPTION: La Biodanza vise le plaisir dans le mouvement, la rencon
 tre avec soi et les autres, à danser comme on le ressent, voire même
  de s’autoriser à se lâcher complètement…\n \nElle invite à :
 \n\nNous sentir heureux et plus enthousiaste\nAméliorer notre santé\
 nRéhabiliter notre confiance et notre estime de nous\nIntégrer nos s
 entiments, nos actions et nos pensées\nEnrichir nos rencontres\nStimu
 ler notre créativité\nVivre des relations harmonieuses et authentiqu
 es\nDévelopper notre capacité à aimer et à être aimé\n\n \nGrac
 e à des mouvements simples réalisés en musique, la Biodanza est acc
 essible à tous.\n \nTarifs :\nLa scéance découverte de la Biodanza
  est à 5€.\nPour ceux qui en ont déjà fait, c'est 18€\nIl y a d
 es forfaits pour plusieurs séances et des réductions pour certains p
 ublics.\n \nTenue confortable conseillée. On danse pieds nus, en cha
 ussettes, ou en chaussons de danse.\n \n \nPour venir :\nPar exemple
 , train jusque gare d'Houilles Carrière sur Seine, puis bus n°3 à 1
 8h24 jusque \"Collège Auguste Renoir\", pour arriver à la salle vers
  18h40.\nPlan et horaires : http://www.idf.veolia-transport.fr/\n\nPo
 ur plus d'information, aller sur https://epanews.fr/events/cours-de-bi
 odanza-chatou
DTSTART;TZID=Europe/Paris:20121011T190000
DTEND;TZID=Europe/Paris:20121011T204500
CATEGORIES:78
LOCATION:Chatou
WEBSITE:http://www.vivresavie.org
URL:http://www.vivresavie.org
CONTACT:0685592770
ORGANIZER;CN=Nadine:https://epanews.fr/profile/Nadine737
ATTACH;FMTTYPE="image/jpeg":
ATTENDEE;ROLE=REQ-PARTICIPANT;PARTSTAT=ACCEPTED;RSVP=TRUE;CN=Nadine:ht
 tps://epanews.fr/profile/Nadine737
END:VEVENT
END:VCALENDAR
