BEGIN:VCALENDAR
PRODID:NingEventWidget-v1
VERSION:2.0
METHOD:PUBLISH
BEGIN:VTIMEZONE
TZID:Europe/Paris
X-LIC-LOCATION:Europe/Paris
BEGIN:DAYLIGHT
TZOFFSETFROM:+0100
TZOFFSETTO:+0200
TZNAME:CEST
DTSTART:19700329T020000
RRULE:FREQ=YEARLY;BYMONTH=3;BYDAY=-1SU
END:DAYLIGHT
BEGIN:STANDARD
TZOFFSETFROM:+0200
TZOFFSETTO:+0100
TZNAME:CET
DTSTART:19701025T030000
RRULE:FREQ=YEARLY;BYMONTH=10;BYDAY=-1SU
END:STANDARD
END:VTIMEZONE
BEGIN:VEVENT
UID:2485226:Event:45700
DTSTAMP:20260421T115117Z
SUMMARY:Cours de biodanza à Palaiseau, Essonnes
DESCRIPTION:Cours hebdomadaire de biodanza\n\nTous les jeudi , 20h-22h
 \n\nau Studio de danse Catherine Le Cossec,\n53, rue Louise Bruneau, 9
 1130 Palaiseau\n(7 minutes à pied du RER Palaiseau, ligne RER B)\n\nL
 a biodanza a pour objectif de stimuler la joie de vivre comme source d
 e santé.\nElle est une rencontre avec notre vitalité, notre créativ
 ité, notre plaisir de vivre et d'être en relation.\n\nA travers le m
 ouvement, né de la musique et de l'émotion, elle propose de s'en rem
 ettre à l'intelligence du corps pour retrouver notre unité.\n\nElle 
 favorise ainsi l'expression et le développement des potentiels de cha
 cun dans le plaisir, la joie, et la bonne humeur!\n\nElle est ouverte 
 à tous, les exercices proposés sont simples, chacun les réalise sel
 on son propre potentiel, aucune aptitude physique particulière n'est 
 requise.\n\nLes musiques (puisées dans le patrimoine universel- musiq
 ues classiques, ethniques, latino-américaines, jazz...rock...) sont c
 hoisies spécifiquement pour leurs effets bénéfiques intégrateur.\n
 \nLes tarifs: tarif découverte: 10 euros ; Séance à l'unité: 20 eu
 ros ; Abonnement 5 séances: 90 euros ; Abonnement 10 séances: 160 eu
 ros\n\n\nInformations et réservations au:\n0627359733 ou 0628050597\n
 \nPour plus d'information, aller sur https://epanews.fr/events/cours-d
 e-biodanza-a-palaiseau
DTSTART;TZID=Europe/Paris:20100415T200000
DTEND;TZID=Europe/Paris:20100415T220000
CATEGORIES:91
LOCATION:Studio de danse Catherine Le Cossec
WEBSITE:
URL:
CONTACT:0627359733  /  0628050597
ORGANIZER;CN="Bénédicte Chamberland":https://epanews.fr/profile/Bene
 dicteChamberland
ATTACH;FMTTYPE="image/jpeg":http://storage.ning.com/topology/rest/1.0/
 file/get/1662298636?profile=original
ATTENDEE;ROLE=REQ-PARTICIPANT;PARTSTAT=ACCEPTED;RSVP=TRUE;CN="Bénédi
 cte Chamberland":https://epanews.fr/profile/BenedicteChamberland
END:VEVENT
END:VCALENDAR
