BEGIN:VCALENDAR
PRODID:NingEventWidget-v1
VERSION:2.0
METHOD:PUBLISH
BEGIN:VTIMEZONE
TZID:Europe/Paris
X-LIC-LOCATION:Europe/Paris
BEGIN:DAYLIGHT
TZOFFSETFROM:+0100
TZOFFSETTO:+0200
TZNAME:CEST
DTSTART:19700329T020000
RRULE:FREQ=YEARLY;BYMONTH=3;BYDAY=-1SU
END:DAYLIGHT
BEGIN:STANDARD
TZOFFSETFROM:+0200
TZOFFSETTO:+0100
TZNAME:CET
DTSTART:19701025T030000
RRULE:FREQ=YEARLY;BYMONTH=10;BYDAY=-1SU
END:STANDARD
END:VTIMEZONE
BEGIN:VEVENT
UID:2485226:Event:2993193
DTSTAMP:20260424T112333Z
SUMMARY:Cours dÃ©couverte programme MBSR : rÃ©duction du stress par la
  pleine conscience
DESCRIPTION:MERCREDI 19 DECEMBRE Ã  19H\nCOURS DECOUVERTE pour le proc
 hain Programme MBSR RÃ©duction du Stress par la Pleine Conscience.\n1H
 30 de pratiques mÃ©ditatives deÂ Pleine Conscience et prÃ©sentation du
  programme en 8 semaines qui se dÃ©roulera duÂ 15 FEVRIER AU 12 AVRIL 
 2019Â (8 vendredi de 14h-16h30 et 1 dimanche de 10h-17h).\nCe programm
 e est une possibilitÃ© de dÃ©velopper une nouvelle maniÃ¨re d'Ãªtre en
  relation avec le STRESS et de pratiquer de maniÃ¨re INTENSIVE la MEDI
 TATION dans l'Ã©tat d'esprit de la PLEINE CONSCIENCE\nTarif : 15â‚¬\nP
 our ce cours dÃ©couverte et/ ou pour s'informer de ce programme : Â  Â
   Â  Â  Â  Â  Â  Â  Â  INSCRIPTION OBLIGATOIRE par mail svp :Â espaceb
 eauregard75@yahoo.fr\nChristiane BeaugÃ©, enseignante du programme MBS
 R - Sophrologue-Relaxologue DÃ©tails sur le site : www.pleineconscienc
 e75.com \n\nPour plus d'information, aller sur https://epanews.fr/even
 ts/cours-d-couverte-programme-mbsr-r-duction-du-stress-par-la-plei-2
DTSTART;TZID=Europe/Paris:20181219T190000
DTEND;TZID=Europe/Paris:20181219T203000
CATEGORIES:75
LOCATION:Paris 75002
WEBSITE:http://www.pleineconscience75.com
URL:http://www.pleineconscience75.com
CONTACT:
ORGANIZER;CN="Christiane BeaugÃ©":https://epanews.fr/profile/Christian
 eBeauge
ATTACH;FMTTYPE="image/jpeg":http://storage.ning.com/topology/rest/1.0/
 file/get/1662981963?profile=original
ATTENDEE;ROLE=REQ-PARTICIPANT;PARTSTAT=ACCEPTED;RSVP=TRUE;CN="Christia
 ne BeaugÃ©":https://epanews.fr/profile/ChristianeBeauge
END:VEVENT
END:VCALENDAR
