BEGIN:VCALENDAR
PRODID:NingEventWidget-v1
VERSION:2.0
METHOD:PUBLISH
BEGIN:VTIMEZONE
TZID:Europe/Paris
X-LIC-LOCATION:Europe/Paris
BEGIN:DAYLIGHT
TZOFFSETFROM:+0100
TZOFFSETTO:+0200
TZNAME:CEST
DTSTART:19700329T020000
RRULE:FREQ=YEARLY;BYMONTH=3;BYDAY=-1SU
END:DAYLIGHT
BEGIN:STANDARD
TZOFFSETFROM:+0200
TZOFFSETTO:+0100
TZNAME:CET
DTSTART:19701025T030000
RRULE:FREQ=YEARLY;BYMONTH=10;BYDAY=-1SU
END:STANDARD
END:VTIMEZONE
BEGIN:VEVENT
UID:2485226:Event:3118192
DTSTAMP:20260423T191201Z
SUMMARY:Cours découverte programme MBSR : réduction du stress par la
  pleine conscience
DESCRIPTION:\nCOURS DECOUVERTE MBSR - 1H30\nPratiques méditatives div
 ersifiées\ndu Programme MBSR (assise, mouvements méditatifs en Plein
 e Conscience)   et Questions Réponses\nen Présentiel dans le 75003\
 nTarif du cours découverte 1h30 : 17€\nPour ce cours découverte et
 / ou pour s'informer du programme MBSR Réduction du stress :      
              INSCRIPTION OBLIGATOIRE par mail svp : espacebeaur
 egard75@yahoo.fr\nChristiane Beaugé, enseignante du programme MBSR - 
 Sophrologue-Relaxologue\n Détails sur le site : www.pleineconscience7
 5.com \n\nPour plus d'information, aller sur https://epanews.fr/events
 /cours-d-couverte-programme-mbsr-r-duction-du-stress-par-la-ple-60
DTSTART;TZID=Europe/Paris:20210529T170000
DTEND;TZID=Europe/Paris:20210529T183000
CATEGORIES:75
LOCATION:Paris 75003
WEBSITE:http://www.pleineconscience75.com
URL:http://www.pleineconscience75.com
CONTACT:
ORGANIZER;CN="Christiane Beaugé":https://epanews.fr/profile/Christian
 eBeauge
ATTACH;FMTTYPE="image/jpeg":https://storage.ning.com/topology/rest/1.0
 /file/get/8766502066?profile=original
ATTENDEE;ROLE=REQ-PARTICIPANT;PARTSTAT=ACCEPTED;RSVP=TRUE;CN="Christia
 ne Beaugé":https://epanews.fr/profile/ChristianeBeauge
END:VEVENT
END:VCALENDAR
