BEGIN:VCALENDAR
PRODID:NingEventWidget-v1
VERSION:2.0
METHOD:PUBLISH
BEGIN:VTIMEZONE
TZID:Europe/Paris
X-LIC-LOCATION:Europe/Paris
BEGIN:DAYLIGHT
TZOFFSETFROM:+0100
TZOFFSETTO:+0200
TZNAME:CEST
DTSTART:19700329T020000
RRULE:FREQ=YEARLY;BYMONTH=3;BYDAY=-1SU
END:DAYLIGHT
BEGIN:STANDARD
TZOFFSETFROM:+0200
TZOFFSETTO:+0100
TZNAME:CET
DTSTART:19701025T030000
RRULE:FREQ=YEARLY;BYMONTH=10;BYDAY=-1SU
END:STANDARD
END:VTIMEZONE
BEGIN:VEVENT
UID:2485226:Event:2687731
DTSTAMP:20260421T081616Z
SUMMARY:MÃ©ditation pleine conscience : cours dÃ©couverte samedi 3 sep
 tembre
DESCRIPTION:SAMEDI 3 SEPTEMBRE de 12H30 Ã  17H30\nÃ  Paris 75002 se dÃ
 ©roule une\nJOURNEE DECOUVERTE de la MEDITATION PLEINE CONSCIENCE\nIns
 crivez-vous selon votre disponibilitÃ© et choix  en suivant les indica
 tions suivantes :\n12h30- 14h : MÃ©ditation pleine Conscience :Â Cours
  1h30 :Â posture assise, mouvement mÃ©ditatif assis, posture deboutÂ \
 n14h30- 15h30 :Â Â MÃ©ditation pleine Conscience :Â Cours 1h :Â en pos
 ture assise uniquement (coussin ou chaise)\n16h-17h30 : MÃ©ditation pl
 eine Conscience :Â Cours 1h30 :Â posture assise, mouvement mÃ©ditatif 
 assis, posture deboutÂ \nTarifs : le cours d'1h :Â 12â‚¬ -Â le cours d
 '1h30 :Â 15â‚¬ .\nAucun niveau requis.\nS'inscrire par mail pour parti
 ciper Ã  un de ces coursÂ dans le 75002 :Â espacebeauregard75@yahoo.fr
 \nContacter Christiane BeaugÃ©, sophrologue et relaxologue, enseignant
 e MBSR MÃ©ditation Pleine Conscience.\n\nPour plus d'information, alle
 r sur https://epanews.fr/events/cours-d-couverte-m-ditation-pleine-con
 science-samedi-3-sept
DTSTART;TZID=Europe/Paris:20160903T123000
DTEND;TZID=Europe/Paris:20160903T173000
CATEGORIES:75
LOCATION:Paris 75002
WEBSITE:http://www.espace-beauregard75.com
URL:http://www.espace-beauregard75.com
CONTACT:06 70 49 32 38 - 01 44 61 74 59
ORGANIZER;CN="Christiane BeaugÃ©":https://epanews.fr/profile/Christian
 eBeauge
ATTACH;FMTTYPE="image/jpeg":http://storage.ning.com/topology/rest/1.0/
 file/get/1663262651?profile=original
ATTENDEE;ROLE=REQ-PARTICIPANT;PARTSTAT=ACCEPTED;RSVP=TRUE;CN="Christia
 ne BeaugÃ©":https://epanews.fr/profile/ChristianeBeauge
END:VEVENT
END:VCALENDAR
