BEGIN:VCALENDAR
PRODID:NingEventWidget-v1
VERSION:2.0
METHOD:PUBLISH
BEGIN:VTIMEZONE
TZID:Europe/Paris
X-LIC-LOCATION:Europe/Paris
BEGIN:DAYLIGHT
TZOFFSETFROM:+0100
TZOFFSETTO:+0200
TZNAME:CEST
DTSTART:19700329T020000
RRULE:FREQ=YEARLY;BYMONTH=3;BYDAY=-1SU
END:DAYLIGHT
BEGIN:STANDARD
TZOFFSETFROM:+0200
TZOFFSETTO:+0100
TZNAME:CET
DTSTART:19701025T030000
RRULE:FREQ=YEARLY;BYMONTH=10;BYDAY=-1SU
END:STANDARD
END:VTIMEZONE
BEGIN:VEVENT
UID:2485226:Event:1878000
DTSTAMP:20260424T190144Z
SUMMARY:Couper les Cordes et les attachements
DESCRIPTION:B.busting et Couper les Cordes Mai 2014.pdf\n « Couper le
 s cordes et les attachements »  De Starr Fuentes  Avec Cédric Delave
 au   Samedi 24 et Dimanche 25 mai 2014 près de Poitiers   « Couper l
 es cordes et les attachements » est bien plus qu’un enseignement, c
 e sont des initiations transmises par Cédric Delaveau afin que les pa
 rticipants reçoivent les techniques et compréhensions au sujet de ce
  que sont les cordes, chaînes, liens énergétiques, leurs influences
 , comment les reconnaître et les purifier, les nettoyer, les élimine
 r, les transmuter… Une transmission d’énergie de plus de 11 techn
 iques appropriées à différentes causes et conséquences de la vie, 
 passés et présentes. C’est une formation pour apprendre et utilise
 r ces techniques de purification de manière professionnelle en tant q
 ue guérisseur, thérapeute énergéticien et autres.   Quelques infor
 mations sur ce que vous apprendrez et ce que vont vous apporter ces de
 ux jours d’enseignements/initiations  - Comment nettoyer votre aura.
   - Comment vous connecter, vous centrer et vous aligner de manière a
 ppropriée pour les soins.  - Ce que sont les cordes, chaînes et autr
 es liens non nourrissants.  - Identifier, reconnaître les cordes, cha
 înes, liens énergétiques non nourrissant et qui ne servent pas/plus
 , etc., leurs influences et comment ils sont créés.  - 11 techniques
  pour purifier, nettoyer et éliminer les cordes, chaînes, liens éne
 rgétiques non nourrissants et qui ne servent pas/plus, connus et/ou i
 nconnus, etc.  - 9 prières pour éliminer, purifier et nettoyer des c
 ordes, chaînes, liens énergétiques non nourrissants et qui ne serve
 nt pas/plus, connus et/ou inconnus, etc.  - Comment rester et demeurer
  en conscience avec des liens sains et nourrissants.  - Maintenir une 
 énergie d’intégrité.  Plus d’informations: cedric.dlv@gmail.com
    Inscriptions avant le 15 Mai 2014  Guérisons et Paix  Cédric\n\nP
 our plus d'information, aller sur https://epanews.fr/events/couper-les
 -cordes-et-les-attachements-1
DTSTART;TZID=Europe/Paris:20140524T100000
DTEND;TZID=Europe/Paris:20140525T180000
CATEGORIES:86
LOCATION:Cissé dans la Vienne
WEBSITE:http://www.cedricdelaveau.com
URL:http://www.cedricdelaveau.com
CONTACT:
ORGANIZER;CN=Cedric:https://epanews.fr/profile/Cedric182
ATTACH;FMTTYPE="image/jpeg":http://storage.ning.com/topology/rest/1.0/
 file/get/1663115715?profile=original
ATTENDEE;ROLE=REQ-PARTICIPANT;PARTSTAT=ACCEPTED;RSVP=TRUE;CN=Cedric:ht
 tps://epanews.fr/profile/Cedric182
END:VEVENT
END:VCALENDAR
