BEGIN:VCALENDAR
PRODID:NingEventWidget-v1
VERSION:2.0
METHOD:PUBLISH
BEGIN:VTIMEZONE
TZID:Europe/Paris
X-LIC-LOCATION:Europe/Paris
BEGIN:DAYLIGHT
TZOFFSETFROM:+0100
TZOFFSETTO:+0200
TZNAME:CEST
DTSTART:19700329T020000
RRULE:FREQ=YEARLY;BYMONTH=3;BYDAY=-1SU
END:DAYLIGHT
BEGIN:STANDARD
TZOFFSETFROM:+0200
TZOFFSETTO:+0100
TZNAME:CET
DTSTART:19701025T030000
RRULE:FREQ=YEARLY;BYMONTH=10;BYDAY=-1SU
END:STANDARD
END:VTIMEZONE
BEGIN:VEVENT
UID:2485226:Event:2205853
DTSTAMP:20260425T053852Z
SUMMARY:Cos'R'y  :   L'Amour... un camp politique !
DESCRIPTION:2008... élection de Barack Obama... il est à la tête de
  la première puissance économique et s'apprête à régner en maîtr
 e sur une nation comportant plus de 50 états... C'est la première fo
 is dans l'histoire. Ce président, métisse, en politique depuis 1996,
  fait le buzz. Alors vous direz pourquoi, quel rapprochement entre cet
  évènement crucial et le thème  \"L'Amour... un camp politique\". 
  Cette question n’a pas de réponse... Toutefois ce 5 février nous 
 soulèverons l'idée saugrenue pour les uns, utopique pour les autres,
  de créer un nouveau partie... Après la gauche, après la droite, ap
 rès toute une série de tentatives, ce 5 février venez planter les g
 raines du partie de l'Amour....  Oyhan Labat\n\nPour plus d'informatio
 n, aller sur https://epanews.fr/events/cos-r-y-l-amour-un-camp-politiq
 ue
DTSTART;TZID=Europe/Paris:20150205T193000
DTEND;TZID=Europe/Paris:20150205T233000
CATEGORIES:83
LOCATION:Le Liber'Thé
WEBSITE:
URL:
CONTACT:06 59 26 21 95
ORGANIZER;CN="Alliance Art' & Bien-être":https://epanews.fr/profile/A
 llianceArtBienetre
ATTACH;FMTTYPE="image/jpeg":http://storage.ning.com/topology/rest/1.0/
 file/get/1663315971?profile=original
ATTENDEE;ROLE=REQ-PARTICIPANT;PARTSTAT=ACCEPTED;RSVP=TRUE;CN="Alliance
  Art' & Bien-être":https://epanews.fr/profile/AllianceArtBienetre
END:VEVENT
END:VCALENDAR
