BEGIN:VCALENDAR
PRODID:NingEventWidget-v1
VERSION:2.0
METHOD:PUBLISH
BEGIN:VTIMEZONE
TZID:Europe/Paris
X-LIC-LOCATION:Europe/Paris
BEGIN:DAYLIGHT
TZOFFSETFROM:+0100
TZOFFSETTO:+0200
TZNAME:CEST
DTSTART:19700329T020000
RRULE:FREQ=YEARLY;BYMONTH=3;BYDAY=-1SU
END:DAYLIGHT
BEGIN:STANDARD
TZOFFSETFROM:+0200
TZOFFSETTO:+0100
TZNAME:CET
DTSTART:19701025T030000
RRULE:FREQ=YEARLY;BYMONTH=10;BYDAY=-1SU
END:STANDARD
END:VTIMEZONE
BEGIN:VEVENT
UID:2485226:Event:2205748
DTSTAMP:20260425T235101Z
SUMMARY:Cos'R'y : L'Amour, la relation avec l'autre, le couple
DESCRIPTION:Lâ€™AMOUR, LA RELATION AVEC Lâ€™AUTRE, LE COUPLEJe vous pr
 opose dâ€™aborder une nouvelle faÃ§on de dÃ©couvrir le Bien-ÃŠtre IntÃ
 ©rieur tout simplement, en amÃ©nageant votre demeure.Notre habitation 
 est comme notre corps, elle est le miroir de notre psychisme, de notre
  existence, de notre histoire.Avec les principes du Feng Shui, cet art
  Chinois plusieurs fois millÃ©naire, vous Ãªtes amenÃ©s Ã  amÃ©nagerÂ 
  votre lieu de vie afin de lâ€™amÃ©liorer et aussi de voir les choses 
 dâ€™une nouvelle maniÃ¨re, de prendre dâ€™importantes dÃ©cisions plus 
 aisÃ©ment, de vous transformer.Cette mÃ©decine de lâ€™Ã‚me Maison cons
 iste Ã  vivre en harmonie avec notre environnement en changeant les fl
 ux Ã©nergÃ©tiques. Le Feng Shui est lâ€™acupuncture de lâ€™espace.En a
 ppliquant les rÃ¨gles fondamentales avec bon sens, vous pourrez influe
 ncer de faÃ§on bÃ©nÃ©fique vos relations humaines, interpersonnelles a
 moureuses ou dâ€™ordre amical. Bien utilisÃ©, le Feng Shui est un vect
 eur de Bonheur Familial Relationnel.Au cours de cette CosRy, je vous c
 onseillerai sur lâ€™amÃ©nagement de votre demeure, les erreurs Ã  Ã©vi
 ter, et plus particuliÃ¨rement sur le secteur de lâ€™Amour, celui du C
 ouple, de la Communication, des Relations avec lâ€™Autre, les Autres, 
 afin dâ€™activer positivement cette zone de vie et pourquoi pas trouve
 r lâ€™Ã¢me sÅ“ur, Ã©voluer et construire pour un couple rÃ©cent, boost
 er et pÃ©renniser une relation grÃ¢ce Ã  la complicitÃ© acquise au fil
  des ans.En prenant conscience dâ€™une nouvelle atmosphÃ¨re, un nouvel
  Ã©lan, vous trouverez un Ã©quilibre, sortirez de la solitude, Ã©coute
 rez lâ€™autre avec bienveillance, lâ€™apprÃ©cierez, communiquerezâ€¦af
 in dâ€™Ãªtre en paix, de connaÃ®tre le bonheur.Dans le Feng Shui tant 
 que vous vous rapprocherez des dÃ©sirs de votre cÅ“ur, vous vous rappr
 ochez de vous-mÃªme.Cet art de vivre a merveilleusement changÃ© mon ex
 istence. Câ€™est avec plaisir que jâ€™Ã©changerai et partagerai avec v
 ous cette philosophie si passionnante.JosÃ©e VERLISIER06 79 78 61 28jo
 sebienetre@yahoo.com Renseignements & RÃ©servation 06 59 26 21 95SoirÃ
 ©e, confÃ©rence, repas bio-vÃ©gÃ©tarien... 20â‚¬\n\nPour plus d'inform
 ation, aller sur https://epanews.fr/events/cos-r-y-l-amour-la-relation
 -avec-l-autre-le-couple
DTSTART;TZID=Europe/Paris:20150212T193000
DTEND;TZID=Europe/Paris:20150212T233000
CATEGORIES:83
LOCATION:Le Liber'ThÃ©
WEBSITE:
URL:
CONTACT:06 59 26 21 95
ORGANIZER;CN="Alliance Art' & Bien-Ãªtre":https://epanews.fr/profile/A
 llianceArtBienetre
ATTACH;FMTTYPE="image/jpeg":http://storage.ning.com/topology/rest/1.0/
 file/get/1663315770?profile=original
ATTENDEE;ROLE=REQ-PARTICIPANT;PARTSTAT=ACCEPTED;RSVP=TRUE;CN="Alliance
  Art' & Bien-Ãªtre":https://epanews.fr/profile/AllianceArtBienetre
END:VEVENT
END:VCALENDAR
