BEGIN:VCALENDAR
PRODID:NingEventWidget-v1
VERSION:2.0
METHOD:PUBLISH
BEGIN:VTIMEZONE
TZID:Europe/Paris
X-LIC-LOCATION:Europe/Paris
BEGIN:DAYLIGHT
TZOFFSETFROM:+0100
TZOFFSETTO:+0200
TZNAME:CEST
DTSTART:19700329T020000
RRULE:FREQ=YEARLY;BYMONTH=3;BYDAY=-1SU
END:DAYLIGHT
BEGIN:STANDARD
TZOFFSETFROM:+0200
TZOFFSETTO:+0100
TZNAME:CET
DTSTART:19701025T030000
RRULE:FREQ=YEARLY;BYMONTH=10;BYDAY=-1SU
END:STANDARD
END:VTIMEZONE
BEGIN:VEVENT
UID:2485226:Event:706193
DTSTAMP:20260423T150754Z
SUMMARY:Corps en Mouvement ce dim 26
DESCRIPTION:\n Matin: Proposition de Réveil Corporel Dynamique Doux\
 n Aprem : Exploration des corps et du mouvement. \nParticipation so
 us forme de dons pour aider à faire vivre le projet, 5 euros minimum 
 conseillé + svp d'apporter un mets à partager pour le repas du midi 
 ainsi qu'une petite attention de douceur pour la Maison ;- encens, fle
 ur, bougies ;-D \n\n\nPour plus d'information, aller sur https://epan
 ews.fr/events/corps-en-mouvement-ce-dim-26
DTSTART;TZID=Europe/Paris:20120226T103000
DTEND;TZID=Europe/Paris:20120226T170000
CATEGORIES:95
LOCATION:Paris
WEBSITE:http://fr-fr.facebook.com/lamaisonpourvoyager?sk=wall&filter=2
URL:http://fr-fr.facebook.com/lamaisonpourvoyager?sk=wall&filter=2
CONTACT:06 31 35 86 75
ORGANIZER;CN="Vanessa Ceresta":https://epanews.fr/profile/gromme
ATTACH;FMTTYPE="image/jpeg":http://storage.ning.com/topology/rest/1.0/
 file/get/1662559142?profile=original
ATTENDEE;ROLE=REQ-PARTICIPANT;PARTSTAT=ACCEPTED;RSVP=TRUE;CN="Vanessa 
 Ceresta":https://epanews.fr/profile/gromme
END:VEVENT
END:VCALENDAR
