BEGIN:VCALENDAR
PRODID:NingEventWidget-v1
VERSION:2.0
METHOD:PUBLISH
BEGIN:VTIMEZONE
TZID:Europe/Paris
X-LIC-LOCATION:Europe/Paris
BEGIN:DAYLIGHT
TZOFFSETFROM:+0100
TZOFFSETTO:+0200
TZNAME:CEST
DTSTART:19700329T020000
RRULE:FREQ=YEARLY;BYMONTH=3;BYDAY=-1SU
END:DAYLIGHT
BEGIN:STANDARD
TZOFFSETFROM:+0200
TZOFFSETTO:+0100
TZNAME:CET
DTSTART:19701025T030000
RRULE:FREQ=YEARLY;BYMONTH=10;BYDAY=-1SU
END:STANDARD
END:VTIMEZONE
BEGIN:VEVENT
UID:2485226:Event:167761
DTSTAMP:20260422T173317Z
SUMMARY:Contes de Noël pour petits et grands
DESCRIPTION:Le café des créatifs culturels /Contes de Nöel pour pet
 its et grands\navec Béatrice Samson\nHistoire de passer une soirée e
 nsemble autours du feu...\n\nLe fil des histoires ? Une guirlande où 
 les roses s'entrelacent, se tressent, se nouent, vous entraîne au pay
 s des princes, des fées, des mages. Laissez vous emporter dans le mon
 de du merveilleux, partons ensemble dans le rêve, ramenons en un scin
 tillement pour éclairer notre vie ...\n\npaf 5€\n\nPour plus d'info
 rmation, aller sur https://epanews.fr/events/contes-de-noel-pour-petit
 s-et
DTSTART;TZID=Europe/Paris:20101216T193000
DTEND;TZID=Europe/Paris:20101216T213000
CATEGORIES:30
LOCATION:L'instant T Nîmes
WEBSITE:http://http//2Bao30.blogspot.com
URL:http://http//2Bao30.blogspot.com
CONTACT:06 29 55 04 08
ORGANIZER:De Bouche à Oreilles
ATTACH;FMTTYPE="image/jpeg":http://storage.ning.com/topology/rest/1.0/
 file/get/1662365633?profile=original
ATTENDEE;ROLE=REQ-PARTICIPANT;PARTSTAT=ACCEPTED;RSVP=TRUE;CN="Marie-Pi
 erre Carlier":https://epanews.fr/profile/CARLIER
END:VEVENT
END:VCALENDAR
