BEGIN:VCALENDAR
PRODID:NingEventWidget-v1
VERSION:2.0
METHOD:PUBLISH
BEGIN:VTIMEZONE
TZID:Europe/Paris
X-LIC-LOCATION:Europe/Paris
BEGIN:DAYLIGHT
TZOFFSETFROM:+0100
TZOFFSETTO:+0200
TZNAME:CEST
DTSTART:19700329T020000
RRULE:FREQ=YEARLY;BYMONTH=3;BYDAY=-1SU
END:DAYLIGHT
BEGIN:STANDARD
TZOFFSETFROM:+0200
TZOFFSETTO:+0100
TZNAME:CET
DTSTART:19701025T030000
RRULE:FREQ=YEARLY;BYMONTH=10;BYDAY=-1SU
END:STANDARD
END:VTIMEZONE
BEGIN:VEVENT
UID:2485226:Event:711628
DTSTAMP:20260423T165109Z
SUMMARY:construire son tambour chamanique
DESCRIPTION:Accompagné par Marie Catherine Menozzi Vous l'avez rêvé
  ? Venez le réaliser et le nourrir de vos rêves, des rythmes que no
 us jouerons et chanterons ensemble, du contact avec la nature.  http:/
 /tamboursdelaconscience-etducoeur.over-blog.com/ mél :menozzimariec@
 yahoo.fr, \n\nPour plus d'information, aller sur https://epanews.fr/e
 vents/construire-son-tambour-chamanique
DTSTART;TZID=Europe/Paris:20120330T170000
DTEND;TZID=Europe/Paris:20120401T200000
CATEGORIES:84, 04
LOCATION:Apt
WEBSITE:
URL:
CONTACT:04 92 62 54 67
ORGANIZER;CN="Marie Catherine MENOZZI":https://epanews.fr/profile/meno
 zzimariecatherine
ATTACH;FMTTYPE="image/jpeg":http://storage.ning.com/topology/rest/1.0/
 file/get/1662564486?profile=original
ATTENDEE;ROLE=REQ-PARTICIPANT;PARTSTAT=ACCEPTED;RSVP=TRUE;CN="Marie Ca
 therine MENOZZI":https://epanews.fr/profile/menozzimariecatherine
END:VEVENT
END:VCALENDAR
