BEGIN:VCALENDAR
PRODID:NingEventWidget-v1
VERSION:2.0
METHOD:PUBLISH
BEGIN:VTIMEZONE
TZID:Europe/Paris
X-LIC-LOCATION:Europe/Paris
BEGIN:DAYLIGHT
TZOFFSETFROM:+0100
TZOFFSETTO:+0200
TZNAME:CEST
DTSTART:19700329T020000
RRULE:FREQ=YEARLY;BYMONTH=3;BYDAY=-1SU
END:DAYLIGHT
BEGIN:STANDARD
TZOFFSETFROM:+0200
TZOFFSETTO:+0100
TZNAME:CET
DTSTART:19701025T030000
RRULE:FREQ=YEARLY;BYMONTH=10;BYDAY=-1SU
END:STANDARD
END:VTIMEZONE
BEGIN:VEVENT
UID:2485226:Event:2231786
DTSTAMP:20260423T070446Z
SUMMARY:Constellations familiales systemiques et quantiques
DESCRIPTION:Bonjour j'organise la venue de Gilles Placet , www.gilles-
 placet.com ,pour un week end de constellations familiales.\nUne conste
 llation vous permettra de vous liberer de memoires que vous portez et 
 qui ne vous appartiennent plus , de deprogrammer votre cerveau et tout
 es vos cellules afin de realiser votre objectif qui sera chosi au prea
 lable.\nCe travail de developpement personnel se fait en groupe et vou
 s passez individuellement. Vous choisirez des representant de votre fa
 mille qui serviront de canal, vous comprendrez le denouement de votre 
 histoire par rapport au blocage de votre objectif et nous remettrons a
 lors les choses a leur juste place . Ainsi vous serez liberes de mecan
 ismes qui vous empechaient de realiser votre objectif.\nMyriam: mimi_g
 lob@yahoo.fr\n\nPour plus d'information, aller sur https://epanews.fr/
 events/constellations-familiales-systemiques-et-quantiques
DTSTART;TZID=Europe/Paris:20150411T090000
DTEND;TZID=Europe/Paris:20150412T180000
CATEGORIES:34
LOCATION:Montpellier
WEBSITE:http://www.gilles-placet.com
URL:http://www.gilles-placet.com
CONTACT:0981923522
ORGANIZER;CN=Mimindia:https://epanews.fr/profile/MyriamChaabane
ATTACH;FMTTYPE="image/jpeg":
ATTENDEE;ROLE=REQ-PARTICIPANT;PARTSTAT=ACCEPTED;RSVP=TRUE;CN=Mimindia:
 https://epanews.fr/profile/MyriamChaabane
END:VEVENT
END:VCALENDAR
