BEGIN:VCALENDAR
PRODID:NingEventWidget-v1
VERSION:2.0
METHOD:PUBLISH
BEGIN:VTIMEZONE
TZID:Europe/Paris
X-LIC-LOCATION:Europe/Paris
BEGIN:DAYLIGHT
TZOFFSETFROM:+0100
TZOFFSETTO:+0200
TZNAME:CEST
DTSTART:19700329T020000
RRULE:FREQ=YEARLY;BYMONTH=3;BYDAY=-1SU
END:DAYLIGHT
BEGIN:STANDARD
TZOFFSETFROM:+0200
TZOFFSETTO:+0100
TZNAME:CET
DTSTART:19701025T030000
RRULE:FREQ=YEARLY;BYMONTH=10;BYDAY=-1SU
END:STANDARD
END:VTIMEZONE
BEGIN:VEVENT
UID:2485226:Event:599326
DTSTAMP:20260423T064820Z
SUMMARY:Constellations familiales à Montpellier
DESCRIPTION:J'anime le dimanche 27 novembre des constellations familia
 les selon Bert Hellinger. Le tarif est de 75 euros la journée.\nCette
  technique permet, en réintégrant les exclus du système familial, d
 'être en paix avec sa famille. Pour plus de précisions sur cette tec
 hnique, consultez le site\nwww.constellation-familiale.eu\n\nPour plus
  d'information, aller sur https://epanews.fr/events/constellations-fam
 iliales-montpellier
DTSTART;TZID=Europe/Paris:20111127T000000
DTEND;TZID=Europe/Paris:20111127T235900
CATEGORIES:34
LOCATION:Montpellier
WEBSITE:
URL:
CONTACT:06 99 02 22 59
ORGANIZER:Eric
ATTACH;FMTTYPE="image/jpeg":http://storage.ning.com/topology/rest/1.0/
 file/get/1662502616?profile=original
ATTENDEE;ROLE=REQ-PARTICIPANT;PARTSTAT=ACCEPTED;RSVP=TRUE;CN=Grandtout
 :https://epanews.fr/profile/Grandtout
END:VEVENT
END:VCALENDAR
