BEGIN:VCALENDAR
PRODID:NingEventWidget-v1
VERSION:2.0
METHOD:PUBLISH
BEGIN:VTIMEZONE
TZID:Europe/Paris
X-LIC-LOCATION:Europe/Paris
BEGIN:DAYLIGHT
TZOFFSETFROM:+0100
TZOFFSETTO:+0200
TZNAME:CEST
DTSTART:19700329T020000
RRULE:FREQ=YEARLY;BYMONTH=3;BYDAY=-1SU
END:DAYLIGHT
BEGIN:STANDARD
TZOFFSETFROM:+0200
TZOFFSETTO:+0100
TZNAME:CET
DTSTART:19701025T030000
RRULE:FREQ=YEARLY;BYMONTH=10;BYDAY=-1SU
END:STANDARD
END:VTIMEZONE
BEGIN:VEVENT
UID:2485226:Event:101351
DTSTAMP:20260420T110216Z
SUMMARY:Constellations Familiales et soins dans le désert
DESCRIPTION:VOYAGE itinérant et sécurisé\nCHEMINEMENT intérieur et
  conscient\nRELIANCE du corps et de l’esprit\n\nVoyage itinérant du
  1er au 8 novembre dans LE DESERT SACRE DE TIM BAÏN (TUNISIE) en part
 enariat avec Oasis Voyages\n\nL’immensité du désert nous relie à 
 la source de nos ressources et à sa profondeur. Son silence et sa nud
 ité accompagnent le cheminement intérieur vers la paix. Marcher chaq
 ue jour en conscience permet de changer son regard sur soi et aussi su
 r les autres.\n\nAu programme :\nREVEIL MUSCULAIRE, MEDITATION ET MARC
 HE CONSCIENTE\nEn groupe : échauffements et méditation au lever du j
 our, marche consciente de type ‘afghane’. Accessibles à chacun, c
 es pratiques accompagnent le rythme d’une journée.\nCONSTELLATIONS 
 FAMILIALES\nEn groupe : les Constellations Familiales nous entrainent 
 à la réconciliation et à la réintégration des exclus. Ainsi chacu
 n est à sa juste place.\nCURE HYPNOTIQUE\nEn groupe : basé sur l’h
 ypnose Ericksonienne, ce travail propose un contact répétitif avec n
 otre meilleur allié, l’inconscient, pour transformer.\nEFT\nEn grou
 pe : acupression accompagnée de la parole libérant les émotions né
 gatives.\nSOINS INDIVIDUELS\nEn individuel : selon votre élan et ce q
 ui se présente, travail thérapeutique au niveau du crâne et du sacr
 um ou en soins énergétiques (gestion du stress, shiatsu).\nCOMMUNICA
 TION CENTREE SUR L’ECOUTE\nEn groupe : c’est la mise en œuvre des
  travaux de Marshall B. Rosenberg en se mettant à l’écoute de l’
 autre autant que de soi-même et en restant ouvert à ce qui est vivan
 t.\nL’accompagnement du groupe, la compétence des deux thérapeutes
 , la présence rassurante des hommes du désert favorisent le travail 
 sur soi et l’émergence d’une nouvelle réalité de notre spiritua
 lité.\n\nPour plus d'information, aller sur https://epanews.fr/events
 /constellations-familiales-et
DTSTART;TZID=Europe/Paris:20101101T140000
DTEND;TZID=Europe/Paris:20101101T150000
CATEGORIES:tous
LOCATION:Arrivée et départ Aéroport de TOZEUR (Tuinise)
WEBSITE:http://www.lefildariane.eu
URL:http://www.lefildariane.eu
CONTACT:+33 (0)6 18 86 02 10
ORGANIZER;CN="Hervé Robbes":https://epanews.fr/profile/HerveRobbes
ATTACH;FMTTYPE="image/jpeg":http://storage.ning.com/topology/rest/1.0/
 file/get/1662334107?profile=original
ATTENDEE;ROLE=REQ-PARTICIPANT;PARTSTAT=ACCEPTED;RSVP=TRUE;CN="Isabelle
   SEGUIN":https://epanews.fr/profile/IsabelleSEGUINROBBES
ATTENDEE;ROLE=REQ-PARTICIPANT;PARTSTAT=ACCEPTED;RSVP=TRUE;CN="Hervé R
 obbes":https://epanews.fr/profile/HerveRobbes
END:VEVENT
END:VCALENDAR
