BEGIN:VCALENDAR
PRODID:NingEventWidget-v1
VERSION:2.0
METHOD:PUBLISH
BEGIN:VTIMEZONE
TZID:Europe/Paris
X-LIC-LOCATION:Europe/Paris
BEGIN:DAYLIGHT
TZOFFSETFROM:+0100
TZOFFSETTO:+0200
TZNAME:CEST
DTSTART:19700329T020000
RRULE:FREQ=YEARLY;BYMONTH=3;BYDAY=-1SU
END:DAYLIGHT
BEGIN:STANDARD
TZOFFSETFROM:+0200
TZOFFSETTO:+0100
TZNAME:CET
DTSTART:19701025T030000
RRULE:FREQ=YEARLY;BYMONTH=10;BYDAY=-1SU
END:STANDARD
END:VTIMEZONE
BEGIN:VEVENT
UID:2485226:Event:1025498
DTSTAMP:20260423T144913Z
SUMMARY:Constellations Familiales et Psychogénéalogie
DESCRIPTION:                          INVITAT
 ION GRATUITE\nVenez découvrir en situation réelle le déroulement d'
 une constellation familiale.\nParticipation sur réservation:\nMail: e
 velyne@evelyne-piccoli.com\n\nPour plus d'information, aller sur https
 ://epanews.fr/events/constellations-familiales-et-psychog-n-alogie
DTSTART;TZID=Europe/Paris:20121124T000000
DTEND;TZID=Europe/Paris:20121125T235900
CATEGORIES:69
LOCATION:Lyon
WEBSITE:
URL:
CONTACT:06 17 46 71 13
ORGANIZER;CN="PICCOLI EVELYNE":https://epanews.fr/profile/PICCOLIEVELY
 NE
ATTACH;FMTTYPE="image/jpeg":http://api.ning.com:80/files/wDEqM12LMb4M*
 y*CvmUq6vmeIYK-w8c0eo8rELTBwgc3fV73UMxxuUXZLnEhf3o3VjRDoEm1ukBUVryFoFB
 DvGJir*AZ-53-/arbre.jpg
ATTENDEE;ROLE=REQ-PARTICIPANT;PARTSTAT=ACCEPTED;RSVP=TRUE;CN="PICCOLI 
 EVELYNE":https://epanews.fr/profile/PICCOLIEVELYNE
END:VEVENT
END:VCALENDAR
