BEGIN:VCALENDAR
PRODID:NingEventWidget-v1
VERSION:2.0
METHOD:PUBLISH
BEGIN:VTIMEZONE
TZID:Europe/Paris
X-LIC-LOCATION:Europe/Paris
BEGIN:DAYLIGHT
TZOFFSETFROM:+0100
TZOFFSETTO:+0200
TZNAME:CEST
DTSTART:19700329T020000
RRULE:FREQ=YEARLY;BYMONTH=3;BYDAY=-1SU
END:DAYLIGHT
BEGIN:STANDARD
TZOFFSETFROM:+0200
TZOFFSETTO:+0100
TZNAME:CET
DTSTART:19701025T030000
RRULE:FREQ=YEARLY;BYMONTH=10;BYDAY=-1SU
END:STANDARD
END:VTIMEZONE
BEGIN:VEVENT
UID:2485226:Event:375630
DTSTAMP:20260423T024702Z
SUMMARY:Constellations familiales et systémiques
DESCRIPTION:Atelier Constellations familiales et systémiques\n\nLibé
 rer de la place en soi pour accueillir de nouveaux espaces et ressenti
 s, de nouvelles rencontres,  une profession, un lieu…Réaliser nos 
 projets. Harmoniser nos relations.\nSentir et trouver notre identité 
 profonde, notre être authentique.\nVoir les ficelles cachées de ce q
 ui nous empêche de nous réaliser et les libérer.\nChaque libératio
 n individuelle a un impact sur le système familial et collectif.\nLau
 rence Boudin – pratique en constellations familiales et systémiques
  depuis 2003, pratique énergétique depuis 1989.\n\nInscription deman
 dée. Tarif: 20€\nContact : letreanime@laposte.net – 06 11 49 04 6
 2 et www.espace-oxyzen.fr\n\nPour plus d'information, aller sur https:
 //epanews.fr/events/constellations-familiales-et-5
DTSTART;TZID=Europe/Paris:20110630T190000
DTEND;TZID=Europe/Paris:20110630T214500
CATEGORIES:30
LOCATION:Marguerittes
WEBSITE:http://www.espace-oxyzen.fr/contact.php
URL:http://www.espace-oxyzen.fr/contact.php
CONTACT:06.20.16.28.74
ORGANIZER:Oxy'Zen  & L'Etre aNime 
ATTACH;FMTTYPE="image/jpeg":http://storage.ning.com/topology/rest/1.0/
 file/get/1662432536?profile=original
ATTENDEE;ROLE=REQ-PARTICIPANT;PARTSTAT=ACCEPTED;RSVP=TRUE;CN="L'Etre a
 Nime":https://epanews.fr/profile/LEtreaNime
END:VEVENT
END:VCALENDAR
