BEGIN:VCALENDAR
PRODID:NingEventWidget-v1
VERSION:2.0
METHOD:PUBLISH
BEGIN:VTIMEZONE
TZID:Europe/Paris
X-LIC-LOCATION:Europe/Paris
BEGIN:DAYLIGHT
TZOFFSETFROM:+0100
TZOFFSETTO:+0200
TZNAME:CEST
DTSTART:19700329T020000
RRULE:FREQ=YEARLY;BYMONTH=3;BYDAY=-1SU
END:DAYLIGHT
BEGIN:STANDARD
TZOFFSETFROM:+0200
TZOFFSETTO:+0100
TZNAME:CET
DTSTART:19701025T030000
RRULE:FREQ=YEARLY;BYMONTH=10;BYDAY=-1SU
END:STANDARD
END:VTIMEZONE
BEGIN:VEVENT
UID:2485226:Event:164952
DTSTAMP:20260421T171007Z
SUMMARY:Constellations Familiales et soins ostéopathiques à ORLEANS
DESCRIPTION:Travailler en Constellations Familiales et sur notre corps
  par un soin individuel permet la reliance et un autre regard sur notr
 e problématique. C'est ce que nous vous proposons sur deux jours auto
 ur du thème \"Reliance du corps et de l'esprit'\n\nSe renseigner ou n
 ous contacter : Isabelle (06 15 38 43 53) & Hervé (06 18 86 02 10)\nw
 ww.lefildariane.eu\n\nPour plus d'information, aller sur https://epane
 ws.fr/events/constellations-familiales-et-1
DTSTART;TZID=Europe/Paris:20101211T000000
DTEND;TZID=Europe/Paris:20101212T235900
CATEGORIES:45
LOCATION:ORLEANS
WEBSITE:
URL:
CONTACT:06 15 38 43 53 - 06 18 86 02 10
ORGANIZER;CN="Hervé Robbes":https://epanews.fr/profile/HerveRobbes
ATTACH;FMTTYPE="image/jpeg":http://storage.ning.com/topology/rest/1.0/
 file/get/1662366955?profile=original
ATTENDEE;ROLE=REQ-PARTICIPANT;PARTSTAT=ACCEPTED;RSVP=TRUE;CN="Hervé R
 obbes":https://epanews.fr/profile/HerveRobbes
END:VEVENT
END:VCALENDAR
