BEGIN:VCALENDAR
PRODID:NingEventWidget-v1
VERSION:2.0
METHOD:PUBLISH
BEGIN:VTIMEZONE
TZID:Europe/Paris
X-LIC-LOCATION:Europe/Paris
BEGIN:DAYLIGHT
TZOFFSETFROM:+0100
TZOFFSETTO:+0200
TZNAME:CEST
DTSTART:19700329T020000
RRULE:FREQ=YEARLY;BYMONTH=3;BYDAY=-1SU
END:DAYLIGHT
BEGIN:STANDARD
TZOFFSETFROM:+0200
TZOFFSETTO:+0100
TZNAME:CET
DTSTART:19701025T030000
RRULE:FREQ=YEARLY;BYMONTH=10;BYDAY=-1SU
END:STANDARD
END:VTIMEZONE
BEGIN:VEVENT
UID:2485226:Event:1050302
DTSTAMP:20260422T231734Z
SUMMARY:Constellations Familiales à Clermont Ferrand 2-XII-12
DESCRIPTION:Je propose une participation libre au prochain groupe de C
 onstellations Familiales à Clermont Ferrand pour étoffer le groupe. 
 Mon tél:0666926394 Daniella Conti www.constellationsfamiliales.net\n\
 nPour plus d'information, aller sur https://epanews.fr/events/constell
 ations-familiales-clermont-ferrand-2-xii-12
DTSTART;TZID=Europe/Paris:20121202T000000
DTEND;TZID=Europe/Paris:20121202T235900
CATEGORIES:63, auvergne, clermont
LOCATION:Clermont ferrand
WEBSITE:http://www.constellationsfamiliales
URL:http://www.constellationsfamiliales
CONTACT:0666926394
ORGANIZER;CN="Conti Daniella":https://epanews.fr/profile/ContiDaniella
ATTACH;FMTTYPE="image/jpeg":
ATTENDEE;ROLE=REQ-PARTICIPANT;PARTSTAT=ACCEPTED;RSVP=TRUE;CN="Conti Da
 niella":https://epanews.fr/profile/ContiDaniella
END:VEVENT
END:VCALENDAR
