BEGIN:VCALENDAR
PRODID:NingEventWidget-v1
VERSION:2.0
METHOD:PUBLISH
BEGIN:VTIMEZONE
TZID:Europe/Paris
X-LIC-LOCATION:Europe/Paris
BEGIN:DAYLIGHT
TZOFFSETFROM:+0100
TZOFFSETTO:+0200
TZNAME:CEST
DTSTART:19700329T020000
RRULE:FREQ=YEARLY;BYMONTH=3;BYDAY=-1SU
END:DAYLIGHT
BEGIN:STANDARD
TZOFFSETFROM:+0200
TZOFFSETTO:+0100
TZNAME:CET
DTSTART:19701025T030000
RRULE:FREQ=YEARLY;BYMONTH=10;BYDAY=-1SU
END:STANDARD
END:VTIMEZONE
BEGIN:VEVENT
UID:2485226:Event:182000
DTSTAMP:20260421T031821Z
SUMMARY:Constellations familiales selon Bert Hellinger
DESCRIPTION:Animation de constellations familiales. Comment réintégr
 er les personnes exclues de notre système familial ?\nLe tarif est de
  75 euros la journée.\n\nPour plus d'information, aller sur https://e
 panews.fr/events/constellations-familiales-9
DTSTART;TZID=Europe/Paris:20110206T090000
DTEND;TZID=Europe/Paris:20110206T180000
CATEGORIES:35
LOCATION:Rennes
WEBSITE:http://www.campanile-rennes-est-atalante.fr/fr/index.aspx
URL:http://www.campanile-rennes-est-atalante.fr/fr/index.aspx
CONTACT:06 12 97 62 85
ORGANIZER:Yves Aubert
ATTACH;FMTTYPE="image/jpeg":http://storage.ning.com/topology/rest/1.0/
 file/get/1662372480?profile=original
ATTENDEE;ROLE=REQ-PARTICIPANT;PARTSTAT=ACCEPTED;RSVP=TRUE;CN=Grandtout
 :https://epanews.fr/profile/Grandtout
END:VEVENT
END:VCALENDAR
