BEGIN:VCALENDAR
PRODID:NingEventWidget-v1
VERSION:2.0
METHOD:PUBLISH
BEGIN:VTIMEZONE
TZID:Europe/Paris
X-LIC-LOCATION:Europe/Paris
BEGIN:DAYLIGHT
TZOFFSETFROM:+0100
TZOFFSETTO:+0200
TZNAME:CEST
DTSTART:19700329T020000
RRULE:FREQ=YEARLY;BYMONTH=3;BYDAY=-1SU
END:DAYLIGHT
BEGIN:STANDARD
TZOFFSETFROM:+0200
TZOFFSETTO:+0100
TZNAME:CET
DTSTART:19701025T030000
RRULE:FREQ=YEARLY;BYMONTH=10;BYDAY=-1SU
END:STANDARD
END:VTIMEZONE
BEGIN:VEVENT
UID:2485226:Event:159168
DTSTAMP:20260421T153525Z
SUMMARY:Constellations familiales selon Bert Hellinger
DESCRIPTION:Journées d'animation et de formation.\nLe samedi est une 
 journée d'animation sans thème particulier.\nLe dimanche, les person
 nes qui veulent apprendre à animer sont mises en situation.\nLe tarif
  est de 70 euros.\n\nPour plus d'information, aller sur https://epanew
 s.fr/events/constellations-familiales-5
DTSTART;TZID=Europe/Paris:20101211T090000
DTEND;TZID=Europe/Paris:20101212T180000
CATEGORIES:29
LOCATION:Porspoder
WEBSITE:
URL:
CONTACT:0616080477
ORGANIZER;CN=Grandtout:https://epanews.fr/profile/Grandtout
ATTACH;FMTTYPE="image/jpeg":http://storage.ning.com/topology/rest/1.0/
 file/get/1662365533?profile=original
ATTENDEE;ROLE=REQ-PARTICIPANT;PARTSTAT=ACCEPTED;RSVP=TRUE;CN="Martine 
 Donou":https://epanews.fr/profile/MartineDonou
ATTENDEE;ROLE=REQ-PARTICIPANT;PARTSTAT=ACCEPTED;RSVP=TRUE;CN=Grandtout
 :https://epanews.fr/profile/Grandtout
END:VEVENT
END:VCALENDAR
