BEGIN:VCALENDAR
PRODID:NingEventWidget-v1
VERSION:2.0
METHOD:PUBLISH
BEGIN:VTIMEZONE
TZID:Europe/Paris
X-LIC-LOCATION:Europe/Paris
BEGIN:DAYLIGHT
TZOFFSETFROM:+0100
TZOFFSETTO:+0200
TZNAME:CEST
DTSTART:19700329T020000
RRULE:FREQ=YEARLY;BYMONTH=3;BYDAY=-1SU
END:DAYLIGHT
BEGIN:STANDARD
TZOFFSETFROM:+0200
TZOFFSETTO:+0100
TZNAME:CET
DTSTART:19701025T030000
RRULE:FREQ=YEARLY;BYMONTH=10;BYDAY=-1SU
END:STANDARD
END:VTIMEZONE
BEGIN:VEVENT
UID:2485226:Event:1141460
DTSTAMP:20260420T103336Z
SUMMARY:Modification demandée
DESCRIPTION:j'anime des Constellations Familiales le vendredi 15 févr
 ier et/ou le samedi 16 février 2013.\nTravailler sur vous et votre fa
 mille, libérer vos ancêtres et vous libérer est le programme que je
  vous propose avec cet outil thérapeutique.\nChristine Buord\n\nPour 
 plus d'information, aller sur https://epanews.fr/events/constellations
 -familiales-18
DTSTART;TZID=Europe/Paris:20130215T180000
DTEND;TZID=Europe/Paris:20130216T180000
CATEGORIES:34
LOCATION:Montpellier
WEBSITE:http://www.psychotherapies-atm.fr
URL:http://www.psychotherapies-atm.fr
CONTACT:06.65.74.47.90
ORGANIZER;CN=ETOILE:https://epanews.fr/profile/ETOILE
ATTACH;FMTTYPE="image/jpeg":
ATTENDEE;ROLE=REQ-PARTICIPANT;PARTSTAT=ACCEPTED;RSVP=TRUE;CN=ETOILE:ht
 tps://epanews.fr/profile/ETOILE
END:VEVENT
END:VCALENDAR
