BEGIN:VCALENDAR
PRODID:NingEventWidget-v1
VERSION:2.0
METHOD:PUBLISH
BEGIN:VTIMEZONE
TZID:Europe/Paris
X-LIC-LOCATION:Europe/Paris
BEGIN:DAYLIGHT
TZOFFSETFROM:+0100
TZOFFSETTO:+0200
TZNAME:CEST
DTSTART:19700329T020000
RRULE:FREQ=YEARLY;BYMONTH=3;BYDAY=-1SU
END:DAYLIGHT
BEGIN:STANDARD
TZOFFSETFROM:+0200
TZOFFSETTO:+0100
TZNAME:CET
DTSTART:19701025T030000
RRULE:FREQ=YEARLY;BYMONTH=10;BYDAY=-1SU
END:STANDARD
END:VTIMEZONE
BEGIN:VEVENT
UID:2485226:Event:977224
DTSTAMP:20260420T111506Z
SUMMARY:Constellations familiales
DESCRIPTION:Une approche holistique de mieux êtreen groupe ou en indi
 viduel.PourDénouer des blocagesDonner un sens nouveau à ses difficul
 tésSe remettre en mouvement.Déroulement d’une séance :La personne
  qui fait sa constellation exprimesa demande, sa difficulté ou sa sou
 ffrance.L'animatrice lui propose de choisir des représentantspour ell
 e, pour sa problématique ou pour lespersonnes en jeu dans sa demande.
 En individuel, c’est l’animatrice qui va prendre lesdifférents «
  rôles » et restituer les ressentis.Le travail de la constellation v
 a consister à mettre enlumière les enjeux inconscients, les liens se
 crets,les transmissions familiales qui contribuent àmaintenir la pers
 onne dans sa souffrance actuelle oudans la répétition de schémas qu
 i ne lui conviennentpas.Par le placement des représentants, le chant,
 certains gestes et paroles réparateurs,une nouvelle dynamique pourra 
 être insufflée.\n\n\nPour plus d'information, aller sur https://epan
 ews.fr/events/constellations-familiales-16
DTSTART;TZID=Europe/Paris:20121020T143000
DTEND;TZID=Europe/Paris:20121020T180000
CATEGORIES:75
LOCATION:Paris 13ème
WEBSITE:
URL:
CONTACT:0140475108
ORGANIZER;CN="Laure Bo":https://epanews.fr/profile/LaurenceBoue
ATTACH;FMTTYPE="image/jpeg":
ATTENDEE;ROLE=REQ-PARTICIPANT;PARTSTAT=ACCEPTED;RSVP=TRUE;CN="Laure Bo
 ":https://epanews.fr/profile/LaurenceBoue
END:VEVENT
END:VCALENDAR
