BEGIN:VCALENDAR
PRODID:NingEventWidget-v1
VERSION:2.0
METHOD:PUBLISH
BEGIN:VTIMEZONE
TZID:Europe/Paris
X-LIC-LOCATION:Europe/Paris
BEGIN:DAYLIGHT
TZOFFSETFROM:+0100
TZOFFSETTO:+0200
TZNAME:CEST
DTSTART:19700329T020000
RRULE:FREQ=YEARLY;BYMONTH=3;BYDAY=-1SU
END:DAYLIGHT
BEGIN:STANDARD
TZOFFSETFROM:+0200
TZOFFSETTO:+0100
TZNAME:CET
DTSTART:19701025T030000
RRULE:FREQ=YEARLY;BYMONTH=10;BYDAY=-1SU
END:STANDARD
END:VTIMEZONE
BEGIN:VEVENT
UID:2485226:Event:128080
DTSTAMP:20260419T203410Z
SUMMARY:Constellations familiales selon Bert Hellinger
DESCRIPTION:Journée d'animation et de formation. Le thème est les dy
 namiques familiales. Victimes et persécuteurs.\n70 euros pour les par
 ticipants et 80 en cas de formation.\nTout le monde passe.\n\nPour plu
 s d'information, aller sur https://epanews.fr/events/constellations-fa
 miliales-1
DTSTART;TZID=Europe/Paris:20101121T093000
DTEND;TZID=Europe/Paris:20101121T180000
CATEGORIES:75
LOCATION:Association Adèle Picot
WEBSITE:
URL:
CONTACT:0616080477
ORGANIZER;CN=Grandtout:https://epanews.fr/profile/Grandtout
ATTACH;FMTTYPE="image/jpeg":http://storage.ning.com/topology/rest/1.0/
 file/get/1662365280?profile=original
ATTENDEE;ROLE=REQ-PARTICIPANT;PARTSTAT=ACCEPTED;RSVP=TRUE;CN=Grandtout
 :https://epanews.fr/profile/Grandtout
END:VEVENT
END:VCALENDAR
