BEGIN:VCALENDAR
PRODID:NingEventWidget-v1
VERSION:2.0
METHOD:PUBLISH
BEGIN:VTIMEZONE
TZID:Europe/Paris
X-LIC-LOCATION:Europe/Paris
BEGIN:DAYLIGHT
TZOFFSETFROM:+0100
TZOFFSETTO:+0200
TZNAME:CEST
DTSTART:19700329T020000
RRULE:FREQ=YEARLY;BYMONTH=3;BYDAY=-1SU
END:DAYLIGHT
BEGIN:STANDARD
TZOFFSETFROM:+0200
TZOFFSETTO:+0100
TZNAME:CET
DTSTART:19701025T030000
RRULE:FREQ=YEARLY;BYMONTH=10;BYDAY=-1SU
END:STANDARD
END:VTIMEZONE
BEGIN:VEVENT
UID:2485226:Event:36293
DTSTAMP:20260421T131516Z
SUMMARY:constellations professionnelles : rÃ©ussir votre entreprise en
  accord avec ses valeurs
DESCRIPTION:Quels sont les secrets qui renforcent un projet profession
 nel,\nqui apportent le succÃ¨s et font la diffÃ©rence ?\nConnaissez-vo
 us les valeurs et principes fondateurs de votre entreprise ?\n\nAvec l
 es ateliers de constellations professionnelles, dÃ©couvrez :\n\ndes ou
 tils pratiques pour aligner votre entreprise vers son but, favoriser v
 otre visibilitÃ© et attirer de nouveaux clients et partenaires\n\n12 -
  13 avril Ã  Avignon: Â« Les principes du succÃ¨s Â»\nMaÃ®triser les p
 rincipes vitaux nÃ©cessaires au succÃ¨s de votre entreprise, de vos pr
 ojets.\n\no Ce qui anime et donne force Ã  un projet : cohÃ©rence et d
 Ã©veloppement des valeurs.\no Ce qui fait votre diffÃ©rence et vous re
 nd visible sur le marchÃ©.\no Votre valeur, celle de ce que vous propo
 sez face aux besoins des Â« clients Â».\no Votre attitude face au succ
 Ã¨s, les interfÃ©rences et les rÃ©sistances\n\nâ€¢ 10-11 mai : Â« Votr
 e place dans le systÃ¨me et sur le marchÃ© Â»\nLâ€™histoire, les acqui
 s, les points Ã  renforcer\n\nâ€¢ 14-15 juin : Lâ€™Ã©nergie du Futur Â
 « co-crÃ©er, aller vers lâ€™avenirÂ»\nPercevoir les possibilitÃ©s du Â
 « futur Â» pour booster votre crÃ©ativitÃ© et prendre de lâ€™avance.\n
 \nLes intervenants :\nLiliane van der Velde, fondatrice dâ€™Eagle Coun
 selling and Development, rÃ©seau professionnel de conseil et solutions
  alternatives ; spÃ©cialisÃ©e en constellations systÃ©miques pour les 
 professionnels, elle travaille avec Jan Jacob Stam sur lâ€™adaptation 
 franÃ§aise de Â« Fields of Connection Â», livre de rÃ©fÃ©rence des man
 agers .\n\nBenoit Bollini, co-fondateur dâ€™Eagle Counselling and Deve
 lopment et ingÃ©nieur de lâ€™Ecole Nationale Polytechnique de Grenoble
 , il est formÃ© au coaching professionnel.\nTarifs : 320 â‚¬ / module 
 de formation, 180 â‚¬ pour atelier dâ€™une journÃ©e\n\nInfos et inscri
 ptions : contact@chamanisme-entreprises.fr\nwww.chamanisme-entreprises
 .fr\nTel 06 84 54 80 20\n\nÂ« Pour que lâ€™entreprise relie les hommes
  Ã  leur sens Â» Eagle counselling and development\n\nPour plus d'info
 rmation, aller sur https://epanews.fr/events/constellations-2
DTSTART;TZID=Europe/Paris:20100412T000000
DTEND;TZID=Europe/Paris:20100413T235900
CATEGORIES:84
LOCATION:avignon
WEBSITE:
URL:
CONTACT:
ORGANIZER;CN="liliane van der Velde":https://epanews.fr/profile/lilian
 evanderVelde
ATTACH;FMTTYPE="image/jpeg":http://storage.ning.com/topology/rest/1.0/
 file/get/1662288497?profile=original
ATTENDEE;ROLE=REQ-PARTICIPANT;PARTSTAT=ACCEPTED;RSVP=TRUE;CN="liliane 
 van der Velde":https://epanews.fr/profile/lilianevanderVelde
END:VEVENT
END:VCALENDAR
