BEGIN:VCALENDAR
PRODID:NingEventWidget-v1
VERSION:2.0
METHOD:PUBLISH
BEGIN:VTIMEZONE
TZID:Europe/Paris
X-LIC-LOCATION:Europe/Paris
BEGIN:DAYLIGHT
TZOFFSETFROM:+0100
TZOFFSETTO:+0200
TZNAME:CEST
DTSTART:19700329T020000
RRULE:FREQ=YEARLY;BYMONTH=3;BYDAY=-1SU
END:DAYLIGHT
BEGIN:STANDARD
TZOFFSETFROM:+0200
TZOFFSETTO:+0100
TZNAME:CET
DTSTART:19701025T030000
RRULE:FREQ=YEARLY;BYMONTH=10;BYDAY=-1SU
END:STANDARD
END:VTIMEZONE
BEGIN:VEVENT
UID:2485226:Event:2145184
DTSTAMP:20260424T102553Z
SUMMARY:constellation familiale
DESCRIPTION:Me contacter 0606437526\n\nPour plus d'information, aller 
 sur https://epanews.fr/events/constellation-familiale-1
DTSTART;TZID=Europe/Paris:20150110T000000
DTEND;TZID=Europe/Paris:20150110T235900
CATEGORIES:71
LOCATION:le creusot
WEBSITE:http://zendevie . blogspot.com
URL:http://zendevie . blogspot.com
CONTACT:0606437526
ORGANIZER;CN="Mélanie Inacio":https://epanews.fr/profile/MelanieInaci
 o
ATTACH;FMTTYPE="image/jpeg":
ATTENDEE;ROLE=REQ-PARTICIPANT;PARTSTAT=ACCEPTED;RSVP=TRUE;CN="Mélanie
  Inacio":https://epanews.fr/profile/MelanieInacio
END:VEVENT
END:VCALENDAR
