BEGIN:VCALENDAR
PRODID:NingEventWidget-v1
VERSION:2.0
METHOD:PUBLISH
BEGIN:VTIMEZONE
TZID:Europe/Paris
X-LIC-LOCATION:Europe/Paris
BEGIN:DAYLIGHT
TZOFFSETFROM:+0100
TZOFFSETTO:+0200
TZNAME:CEST
DTSTART:19700329T020000
RRULE:FREQ=YEARLY;BYMONTH=3;BYDAY=-1SU
END:DAYLIGHT
BEGIN:STANDARD
TZOFFSETFROM:+0200
TZOFFSETTO:+0100
TZNAME:CET
DTSTART:19701025T030000
RRULE:FREQ=YEARLY;BYMONTH=10;BYDAY=-1SU
END:STANDARD
END:VTIMEZONE
BEGIN:VEVENT
UID:2485226:Event:1921929
DTSTAMP:20260421T155548Z
SUMMARY:Constellation du Référentiel de Naissance
DESCRIPTION:Les Ateliers proposent de jouer les cartes du Tarot de Ma
 rseille que nous avons dans notre Référentiel de Naissance. Il s’a
 git d’observer la mise en scène d’une situation dont on voudrait 
 mieux comprendre la racine du problème (Thème de Départ), pour en l
 ibérer les blocages et développer son potentiel. La personne se conf
 ronte à ses archétypes par la présence des joueurs qui les incarnen
 t, donnant ainsi vie au tarot en laissant exprimer en eux leurs ressen
 tis physique, mental ou émotionnel du moment. L’Atelier est un outi
 l très concret qui utilise la parole, le langage du corps, les sensat
 ions physiques et les déplacements dans l’espace, créant ainsi un 
 impact sur la sphère énergétique globale de la personne. Une dynami
 que nait ainsi et un processus intérieur et personnel à chacun appar
 aît par l’énergie que génère les déplacements et le jeu qui se 
 vit. Cela aide à trouver du sens en mettant en conscience nos schéma
 s intérieurs, la personne se focalise sur ses potentiels, ses ressour
 ces, tout en percevant ses parts d’ombre. Cela lui permet aussi de p
 rendre du recul et d’avoir une vision globale de la situation. Tout 
 cela se vit dans le présent, rien n’étant figé, pour que s’ouvr
 e alors de nouvelles perspectives, des prises de consciences, et de vo
 ies de guérison intérieure.\nL’Atelier est un outil qui est aussi 
 bien adapté aux connaisseurs qu’aux novices du Tarot de Marseille. 
 Il n’y a donc pas besoin de connaître les cartes pour les jouer.\nc
 liquez pour plus d'infos\n\n\n\nPour plus d'information, aller sur htt
 ps://epanews.fr/events/constellation-du-r-f-rentiel-de-naissance-1
DTSTART;TZID=Europe/Paris:20140614T000000
DTEND;TZID=Europe/Paris:20140622T235900
CATEGORIES:11, 34, 31
LOCATION:Montpellier
WEBSITE:http://darshana.co/
URL:http://darshana.co/
CONTACT:06 33 49 58 21
ORGANIZER;CN=Didi:https://epanews.fr/profile/Didi485
ATTACH;FMTTYPE="image/jpeg":http://storage.ning.com/topology/rest/1.0/
 file/get/1663139792?profile=original
ATTENDEE;ROLE=REQ-PARTICIPANT;PARTSTAT=ACCEPTED;RSVP=TRUE;CN=Didi:http
 s://epanews.fr/profile/Didi485
END:VEVENT
END:VCALENDAR
