BEGIN:VCALENDAR
PRODID:NingEventWidget-v1
VERSION:2.0
METHOD:PUBLISH
BEGIN:VTIMEZONE
TZID:Europe/Paris
X-LIC-LOCATION:Europe/Paris
BEGIN:DAYLIGHT
TZOFFSETFROM:+0100
TZOFFSETTO:+0200
TZNAME:CEST
DTSTART:19700329T020000
RRULE:FREQ=YEARLY;BYMONTH=3;BYDAY=-1SU
END:DAYLIGHT
BEGIN:STANDARD
TZOFFSETFROM:+0200
TZOFFSETTO:+0100
TZNAME:CET
DTSTART:19701025T030000
RRULE:FREQ=YEARLY;BYMONTH=10;BYDAY=-1SU
END:STANDARD
END:VTIMEZONE
BEGIN:VEVENT
UID:2485226:Event:190109
DTSTAMP:20260421T092411Z
SUMMARY:Constellation astrologique Ã  Lyon
DESCRIPTION:Qu'est ce qu'une constellation astrologique ?\nIl s'agit d
 'un mode de travail qui s'inspire de la constellation familiale.\nOn m
 et en scÃ¨ne la carte du ciel de naissance en reprÃ©sentant matÃ©riell
 ement dans l'espace le cercle du zodiaque avec les 12 signes. La perso
 nne pour qui on fait l'exercice et qui sera le constellant, choisit le
 s Â« reprÃ©sentants Â» qui vont incarner les planÃ¨tes en lien avec le
  sujet Ã  travailler. Elle se placera alors au centre du cercle, les p
 ersonnes Â« ...planÃ¨tes Â» venant se placer comme dans la carte du ci
 el de naissance du constellant. Ces personnes vont incarnÃ©es et reprÃ
 ©sentÃ©es physiquement les planÃ¨tes. Elles vont ressentir et exprimer
  les sensations, Ã©motions, pensÃ©es, attitudes qu'elles y vivent.\nL'
 approche fait travailler tout le monde, que ce soit, le constellant, l
 es acteurs-planÃ¨tes et les spectateurs. Car c'est la richesse de cet 
 outil oÃ¹ rien ne se passe par \"hasard\", ni le choix des acteurs, ni
  ce qu'ils ressentent (et que la plupart du temps, ils ignoraient quel
 ques minutes auparavant), ni les interactions entre les uns et les aut
 res, ni les vÃ©cus du constellant et de tous les participants.\nChacun
 , par sa simple prÃ©sence est en rÃ©sonance avec la constellation qui 
 se dÃ©roule et reÃ§oit des bÃ©nÃ©fices directs et indirects, en partic
 ulier par une conscience approfondie de la vie et de ses processus.\nÂ
  \nInformations pratiques\nÂ Organisation de 4 constellations (environ
  1h30 pour chacune) dans la journÃ©e avec un groupe d'une dizaine de p
 ersonnes.\nSoit 4 constellants - personne qui souhaite mettre en scÃ¨n
 e leur propre thÃ¨me astrologique- et une demi-douzaine de participant
 s.\nMerci de m'indiquer qui est intÃ©ressÃ©, soit en tant que constell
 ant (tarif 60â‚¬), soit en tant que participant (tarif 20â‚¬)\nPour le
 s constellants, j'aurais besoin de recevoir vos coordonnÃ©es prÃ©cises
  de naissance (date, lieu et heure) avant l'atelier.\nÂ \nLieu : Sweet
  Om\n13 cours d'Herbourville - Lyon 4Ã¨me - sur les quais du RhÃ´ne.\n
 Dimanche 30 janvier de 9h30 Ã  18h\nÂ \nInformation et inscription\nBÃ
 ©nÃ©dicte Pinard\n06 69 61 73 34\n\nPour plus d'information, aller sur
  https://epanews.fr/events/constellation-astrologique-a
DTSTART;TZID=Europe/Paris:20110130T093000
DTEND;TZID=Europe/Paris:20110130T210000
CATEGORIES:69
LOCATION:Lyon
WEBSITE:http://www.benedictepinard.fr/
URL:http://www.benedictepinard.fr/
CONTACT:06 69 61 73 34
ORGANIZER;CN="BÃ©nÃ©dicte Pinard":https://epanews.fr/profile/Benedicte
 Pinard
ATTACH;FMTTYPE="image/jpeg":http://storage.ning.com/topology/rest/1.0/
 file/get/1662380793?profile=original
ATTENDEE;ROLE=REQ-PARTICIPANT;PARTSTAT=ACCEPTED;RSVP=TRUE;CN="BÃ©nÃ©di
 cte Pinard":https://epanews.fr/profile/BenedictePinard
END:VEVENT
END:VCALENDAR
