BEGIN:VCALENDAR
PRODID:NingEventWidget-v1
VERSION:2.0
METHOD:PUBLISH
BEGIN:VTIMEZONE
TZID:Europe/Paris
X-LIC-LOCATION:Europe/Paris
BEGIN:DAYLIGHT
TZOFFSETFROM:+0100
TZOFFSETTO:+0200
TZNAME:CEST
DTSTART:19700329T020000
RRULE:FREQ=YEARLY;BYMONTH=3;BYDAY=-1SU
END:DAYLIGHT
BEGIN:STANDARD
TZOFFSETFROM:+0200
TZOFFSETTO:+0100
TZNAME:CET
DTSTART:19701025T030000
RRULE:FREQ=YEARLY;BYMONTH=10;BYDAY=-1SU
END:STANDARD
END:VTIMEZONE
BEGIN:VEVENT
UID:2485226:Event:2335048
DTSTAMP:20260422T124250Z
SUMMARY:Modification demandÃ©e
DESCRIPTION:Donald Doan et Michelangelo Campisi mettront leurs expÃ©ri
 ences et leur canal Ã  votre disposition pour vous aider et vous Ã©cla
 irer dans votre cheminement actuel. Voici un atelier oÃ¹ ils vous prop
 oseront de vous recevoir dans un espace Â«quantumÂ»; un univers multid
 imensionnel, holistique et sacrÃ© au-delÃ  du temps et de lâ€™espace c
 onventionnel quâ€™ils crÃ©eront pour vous avant mÃªme votre venue.Â \n
 \nChaque atelier est unique puisquâ€™elle dÃ©pend de la dynamique et d
 e lâ€™influence de chacun et de ses besoins spÃ©cifiques; chacun devie
 nt cocrÃ©ateur de ce qui se passe durant la rencontre. Dans ce lieu pr
 opice au non-jugement, Ã  lâ€™ouverture et Ã  la communication avec vo
 s Guides et lâ€™Univers, Donald et Michelangelo recevront pour vous le
 s messages, conseils, mÃ©ditations et bÃ©nÃ©dictions dont vous avez be
 soin. Ainsi, cet espace privilÃ©giÃ© crÃ©era un effet miroir oÃ¹ ce qu
 i est important dâ€™Ãªtre mis Ã  jour sera Ã©clairÃ©, entendu et vu po
 ur que des solutions puissent Ã©merger concrÃ¨tement.\n\nIl nous arriv
 e tous de passer par une pÃ©riode oÃ¹ nous avons lâ€™impression de ne 
 plus avancer et de ne plus savoir oÃ¹ nous en sommes et qui nous somme
 s. Les rÃ©ponses sont toujours Ã  lâ€™intÃ©rieur de nous. Cependant, i
 l nâ€™est pas facile de les voir pour soi. Donald et Michelangelo vous
  aideront Ã  les Ã©couter, voir, comprendre et interprÃ©ter pour vous 
 aider a avancer, et mieux cerner et retrouver vos rÃªves et qui vous Ã
 ªtes vraiment.\n\nLors de cette journÃ©e, lâ€™espace sera propice Ã  u
 ne interaction personnalisÃ©e avec Donald Doan et Michelangelo Campisi
  pour recevoir des conseils et aides pratiques. Â«AprÃ¨s tout, Ã§a ser
 t Ã  quoi de vivre tout cela si on ne peut pas lâ€™appliquer et lâ€™ut
 iliser concrÃ¨tement de notre vie de tous les jours?Â»\n HÃ©lÃ¨ne 06 7
 9 45 34 76Â  /Â  heleneadobati@wibox.fr\n\nPour plus d'information, al
 ler sur https://epanews.fr/events/conseil-quantum-une-rencontre-intime
 -avec-vous-m-mes-et-vos
DTSTART;TZID=Europe/Paris:20150607T150000
DTEND;TZID=Europe/Paris:20150607T190000
CATEGORIES:69
LOCATION:Place des Terreaux
WEBSITE:https://www.google.fr/maps/place/Place+des+Terreaux/@45.767508
 ,4.83352,17z/data=!3m1!4b1!4m2!3m1!1s0x47f4eafe8793f8e3:0x69e30af30e11
 7f94?hl=fr
URL:https://www.google.fr/maps/place/Place+des+Terreaux/@45.767508,4.8
 3352,17z/data=!3m1!4b1!4m2!3m1!1s0x47f4eafe8793f8e3:0x69e30af30e117f94
 ?hl=fr
CONTACT:06 79 45 34 76
ORGANIZER:HÃ©lÃ¨ne Adobati
ATTACH;FMTTYPE="image/jpeg":http://storage.ning.com/topology/rest/1.0/
 file/get/1663406969?profile=original
ATTENDEE;ROLE=REQ-PARTICIPANT;PARTSTAT=ACCEPTED;RSVP=TRUE;CN="Donald D
 oan":https://epanews.fr/profile/DonaldDoan
END:VEVENT
END:VCALENDAR
