BEGIN:VCALENDAR
PRODID:NingEventWidget-v1
VERSION:2.0
METHOD:PUBLISH
BEGIN:VTIMEZONE
TZID:Europe/Paris
X-LIC-LOCATION:Europe/Paris
BEGIN:DAYLIGHT
TZOFFSETFROM:+0100
TZOFFSETTO:+0200
TZNAME:CEST
DTSTART:19700329T020000
RRULE:FREQ=YEARLY;BYMONTH=3;BYDAY=-1SU
END:DAYLIGHT
BEGIN:STANDARD
TZOFFSETFROM:+0200
TZOFFSETTO:+0100
TZNAME:CET
DTSTART:19701025T030000
RRULE:FREQ=YEARLY;BYMONTH=10;BYDAY=-1SU
END:STANDARD
END:VTIMEZONE
BEGIN:VEVENT
UID:2485226:Event:581001
DTSTAMP:20260423T203301Z
SUMMARY:Congrès sur les thérapies quantiques à Lyon
DESCRIPTION:Commençant le samedi  avec P.E. Ransford : la quantique 
 et la psychomatière, suivi par R. Sheldrake: résonance morphique et 
 les champs d'organisation du corps et de l'esprit. Pause déjeuner. 14
 h30 Th. Souccar, puis  Dr.O. Soulier et Dr. Th. Lebrun... soirée buf
 fet et jazz. Dimanche Cristine Agrapart. 11h30 13h Dominique Lussan : 
 conscience et action quantique. Pause.à14h15 Nadine Schuster puis Dr.
  Bruno Donatini et Dr.B. Vial : le stress du protéion! jusqu'à 19h. 
 pour + de détail  voir site:congresthérapiequantique.com  .merci H
 ela\n\nPour plus d'information, aller sur https://epanews.fr/events/co
 ngr-s-sur-les-th-rapies-quantiques-lyon
DTSTART;TZID=Europe/Paris:20111119T000000
DTEND;TZID=Europe/Paris:20111120T235900
CATEGORIES:69
LOCATION:Lyon
WEBSITE:
URL:
CONTACT:
ORGANIZER:congrestherapiequantique.com
ATTACH;FMTTYPE="image/jpeg":
ATTENDEE;ROLE=REQ-PARTICIPANT;PARTSTAT=ACCEPTED;RSVP=TRUE;CN="Pernolle
 t Hela":https://epanews.fr/profile/PernolletHela52
END:VEVENT
END:VCALENDAR
